BEGIN:VCALENDAR
VERSION:2.0
PRODID:-//ddaysoftware.com//NONSGML DDay.iCal 1.0//EN
BEGIN:VTIMEZONE
TZID:W. Europe Standard Time
BEGIN:STANDARD
DTSTART:20251002T030000
RRULE:FREQ=YEARLY;BYDAY=-1SU;BYHOUR=3;BYMINUTE=0;BYMONTH=10
TZNAME:Mitteleuropäische Zeit
TZOFFSETFROM:+0200
TZOFFSETTO:+0100
END:STANDARD
BEGIN:DAYLIGHT
DTSTART:20250301T020000
RRULE:FREQ=YEARLY;BYDAY=-1SU;BYHOUR=2;BYMINUTE=0;BYMONTH=3
TZNAME:Mitteleuropäische Sommerzeit
TZOFFSETFROM:+0100
TZOFFSETTO:+0200
END:DAYLIGHT
END:VTIMEZONE
BEGIN:VEVENT
CATEGORIES:Integration
DESCRIPTION:\n\nVeranstalter: Frauennetzwerk Kelheim\n\nhttps://www.landkre
 is-kelheim.de/landkreis/veranstaltungen/vernissage-muetter-frauen-begegnun
 g-des-frauennetzwerks-kelheim/
DTEND:20251010T170000
DTSTAMP:20260420T004907Z
DTSTART:20251010T150000
LOCATION:Kindergarten Altmühl-Lauser: Alleestr 27\, 93309 Kelheim
SEQUENCE:0
SUMMARY:Vernissage "Mütter - Frauen - Begegnung" des Frauennetzwerks Kelhei
 m
UID:41629
URL:https://www.landkreis-kelheim.de/landkreis/veranstaltungen/vernissage-m
 uetter-frauen-begegnung-des-frauennetzwerks-kelheim/
END:VEVENT
END:VCALENDAR
