BEGIN:VCALENDAR
VERSION:2.0
PRODID:-//ddaysoftware.com//NONSGML DDay.iCal 1.0//EN
BEGIN:VTIMEZONE
TZID:W. Europe Standard Time
BEGIN:STANDARD
DTSTART:20251002T030000
RRULE:FREQ=YEARLY;BYDAY=-1SU;BYHOUR=3;BYMINUTE=0;BYMONTH=10
TZNAME:Mitteleuropäische Zeit
TZOFFSETFROM:+0200
TZOFFSETTO:+0100
END:STANDARD
BEGIN:DAYLIGHT
DTSTART:20250301T020000
RRULE:FREQ=YEARLY;BYDAY=-1SU;BYHOUR=2;BYMINUTE=0;BYMONTH=3
TZNAME:Mitteleuropäische Sommerzeit
TZOFFSETFROM:+0100
TZOFFSETTO:+0200
END:DAYLIGHT
END:VTIMEZONE
BEGIN:VEVENT
CATEGORIES:Integration
DESCRIPTION:\n\nVeranstalter: Schützenverein Grüne Au Peising\n\nhttps://ww
 w.landkreis-kelheim.de/landkreis/veranstaltungen/tag-der-offenen-tuer-im-s
 chuetzenverein-peising/
DTEND:20250928T180000
DTSTAMP:20260419T212451Z
DTSTART:20250928T140000
LOCATION:Vereinsheim Schützenverein Peising: Gartenstraße 9\, 93077 Bad Abb
 ach
SEQUENCE:0
SUMMARY:Tag der offenen Tür im Schützenverein Peising
UID:41635
URL:https://www.landkreis-kelheim.de/landkreis/veranstaltungen/tag-der-offe
 nen-tuer-im-schuetzenverein-peising/
END:VEVENT
END:VCALENDAR
