BEGIN:VCALENDAR
VERSION:2.0
PRODID:-//ddaysoftware.com//NONSGML DDay.iCal 1.0//EN
BEGIN:VTIMEZONE
TZID:W. Europe Standard Time
BEGIN:STANDARD
DTSTART:20251002T030000
RRULE:FREQ=YEARLY;BYDAY=-1SU;BYHOUR=3;BYMINUTE=0;BYMONTH=10
TZNAME:Mitteleuropäische Zeit
TZOFFSETFROM:+0200
TZOFFSETTO:+0100
END:STANDARD
BEGIN:DAYLIGHT
DTSTART:20250301T020000
RRULE:FREQ=YEARLY;BYDAY=-1SU;BYHOUR=2;BYMINUTE=0;BYMONTH=3
TZNAME:Mitteleuropäische Sommerzeit
TZOFFSETFROM:+0100
TZOFFSETTO:+0200
END:DAYLIGHT
END:VTIMEZONE
BEGIN:VEVENT
CATEGORIES:Integration
DESCRIPTION:\n\nVeranstalter: DITIB Mainburg\n\nhttps://www.landkreis-kelhe
 im.de/landkreis/veranstaltungen/tag-der-offenen-moschee-in-mainburg/
DTEND:20251005T180000
DTSTAMP:20260420T002252Z
DTSTART:20251005T130000
LOCATION:Ibrahim Hakki Hz. Moschee Mainburg: Guggenmoosgasse 4\, 84048 Main
 burg
SEQUENCE:0
SUMMARY:Tag der offenen Moschee in Mainburg
UID:41596
URL:https://www.landkreis-kelheim.de/landkreis/veranstaltungen/tag-der-offe
 nen-moschee-in-mainburg/
END:VEVENT
END:VCALENDAR
