BEGIN:VCALENDAR
VERSION:2.0
PRODID:-//ddaysoftware.com//NONSGML DDay.iCal 1.0//EN
BEGIN:VTIMEZONE
TZID:W. Europe Standard Time
BEGIN:STANDARD
DTSTART:20251002T030000
RRULE:FREQ=YEARLY;BYDAY=-1SU;BYHOUR=3;BYMINUTE=0;BYMONTH=10
TZNAME:Mitteleuropäische Zeit
TZOFFSETFROM:+0200
TZOFFSETTO:+0100
END:STANDARD
BEGIN:DAYLIGHT
DTSTART:20250301T020000
RRULE:FREQ=YEARLY;BYDAY=-1SU;BYHOUR=2;BYMINUTE=0;BYMONTH=3
TZNAME:Mitteleuropäische Sommerzeit
TZOFFSETFROM:+0100
TZOFFSETTO:+0200
END:DAYLIGHT
END:VTIMEZONE
BEGIN:VEVENT
CATEGORIES:Wirtschaft & Regionales
DESCRIPTION:Sprechtage Existenzgründer - Anmeldung vorab nötig!\n\nVeransta
 lter: Landratsamt Kelheim\, Kreisentwicklung-Wirtschaftsförderung\n\nhttps
 ://www.landkreis-kelheim.de/landkreis/veranstaltungen/sprechtage-fuer-exis
 tenzgruender-270126/
DTEND:20260127T160000
DTSTAMP:20260420T022421Z
DTSTART:20260127T090000
LOCATION:Landratsamt Kelheim\, Kreisentwicklung-Wirtschaftsförderung: Donau
 park 13\, 93309 Kelheim
SEQUENCE:0
SUMMARY:Sprechtage für Existenzgründer
UID:42010
URL:https://www.landkreis-kelheim.de/landkreis/veranstaltungen/sprechtage-f
 uer-existenzgruender-270126/
END:VEVENT
END:VCALENDAR
