BEGIN:VCALENDAR
VERSION:2.0
PRODID:-//ddaysoftware.com//NONSGML DDay.iCal 1.0//EN
BEGIN:VTIMEZONE
TZID:W. Europe Standard Time
BEGIN:STANDARD
DTSTART:20251002T030000
RRULE:FREQ=YEARLY;BYDAY=-1SU;BYHOUR=3;BYMINUTE=0;BYMONTH=10
TZNAME:Mitteleuropäische Zeit
TZOFFSETFROM:+0200
TZOFFSETTO:+0100
END:STANDARD
BEGIN:DAYLIGHT
DTSTART:20250301T020000
RRULE:FREQ=YEARLY;BYDAY=-1SU;BYHOUR=2;BYMINUTE=0;BYMONTH=3
TZNAME:Mitteleuropäische Sommerzeit
TZOFFSETFROM:+0100
TZOFFSETTO:+0200
END:DAYLIGHT
END:VTIMEZONE
BEGIN:VEVENT
CATEGORIES:Integration
DESCRIPTION:\n\nVeranstalter: Staatlich Berufliches Schulzentrum Kelheim\n\
 nhttps://www.landkreis-kelheim.de/landkreis/veranstaltungen/soiree-film-ku
 nst-und-musikabend-am-bsz-kelheim/
DTEND:20251009T190000
DTSTAMP:20260420T004841Z
DTSTART:20251009T180000
LOCATION:Staaliches Berufliches Schulzentrum Kelheim: Schützenstraße 30\, 9
 3309  Kelheim
SEQUENCE:0
SUMMARY:Soirée / Film-\, Kunst- und Musikabend am BSZ Kelheim
UID:41627
URL:https://www.landkreis-kelheim.de/landkreis/veranstaltungen/soiree-film-
 kunst-und-musikabend-am-bsz-kelheim/
END:VEVENT
END:VCALENDAR
