BEGIN:VCALENDAR
VERSION:2.0
PRODID:-//ddaysoftware.com//NONSGML DDay.iCal 1.0//EN
BEGIN:VTIMEZONE
TZID:W. Europe Standard Time
BEGIN:STANDARD
DTSTART:20251002T030000
RRULE:FREQ=YEARLY;BYDAY=-1SU;BYHOUR=3;BYMINUTE=0;BYMONTH=10
TZNAME:Mitteleuropäische Zeit
TZOFFSETFROM:+0200
TZOFFSETTO:+0100
END:STANDARD
BEGIN:DAYLIGHT
DTSTART:20250301T020000
RRULE:FREQ=YEARLY;BYDAY=-1SU;BYHOUR=2;BYMINUTE=0;BYMONTH=3
TZNAME:Mitteleuropäische Sommerzeit
TZOFFSETFROM:+0100
TZOFFSETTO:+0200
END:DAYLIGHT
END:VTIMEZONE
BEGIN:VEVENT
CATEGORIES:Integration
DESCRIPTION:Komm vorbei und schnuppere in einen Spanischkurs für Anfänger!\
 n\nVeranstalter: Teresa Artinger\, Spanisch-Lehrerin an der VHS Mainburg\n
 \nhttps://www.landkreis-kelheim.de/landkreis/veranstaltungen/schnupperstun
 de-spanisch-fuer-anfaenger/
DTEND:20250924T193000
DTSTAMP:20260420T002240Z
DTSTART:20250924T180000
LOCATION:VHS Mainburg: Mitterweg 8\, 84048 Mainburg
SEQUENCE:0
SUMMARY:Schnupperstunde "Spanisch für Anfänger"
UID:41556
URL:https://www.landkreis-kelheim.de/landkreis/veranstaltungen/schnupperstu
 nde-spanisch-fuer-anfaenger/
END:VEVENT
END:VCALENDAR
