BEGIN:VCALENDAR
VERSION:2.0
PRODID:-//ddaysoftware.com//NONSGML DDay.iCal 1.0//EN
BEGIN:VTIMEZONE
TZID:W. Europe Standard Time
BEGIN:STANDARD
DTSTART:20251002T030000
RRULE:FREQ=YEARLY;BYDAY=-1SU;BYHOUR=3;BYMINUTE=0;BYMONTH=10
TZNAME:Mitteleuropäische Zeit
TZOFFSETFROM:+0200
TZOFFSETTO:+0100
END:STANDARD
BEGIN:DAYLIGHT
DTSTART:20250301T020000
RRULE:FREQ=YEARLY;BYDAY=-1SU;BYHOUR=2;BYMINUTE=0;BYMONTH=3
TZNAME:Mitteleuropäische Sommerzeit
TZOFFSETFROM:+0100
TZOFFSETTO:+0200
END:DAYLIGHT
END:VTIMEZONE
BEGIN:VEVENT
CATEGORIES:Integration
DESCRIPTION:Die internationale Cricket Gruppe Kelheim lädt herzlich zum off
 enen Training ein - für jung und alt!\n\nVeranstalter: Cricket Gruppe Kelh
 eim\n\nhttps://www.landkreis-kelheim.de/landkreis/veranstaltungen/offenes-
 cricket-training/
DTEND:20250921T180000
DTSTAMP:20260419T211719Z
DTSTART:20250921T160000
LOCATION:Bolzplatz am Rennweg 66: Rennweg 66\, 93309 Kelheim
SEQUENCE:0
SUMMARY:Offenes Cricket-Training
UID:41518
URL:https://www.landkreis-kelheim.de/landkreis/veranstaltungen/offenes-cric
 ket-training/
END:VEVENT
END:VCALENDAR
