BEGIN:VCALENDAR
VERSION:2.0
PRODID:-//ddaysoftware.com//NONSGML DDay.iCal 1.0//EN
BEGIN:VTIMEZONE
TZID:W. Europe Standard Time
BEGIN:STANDARD
DTSTART:20251002T030000
RRULE:FREQ=YEARLY;BYDAY=-1SU;BYHOUR=3;BYMINUTE=0;BYMONTH=10
TZNAME:Mitteleuropäische Zeit
TZOFFSETFROM:+0200
TZOFFSETTO:+0100
END:STANDARD
BEGIN:DAYLIGHT
DTSTART:20250301T020000
RRULE:FREQ=YEARLY;BYDAY=-1SU;BYHOUR=2;BYMINUTE=0;BYMONTH=3
TZNAME:Mitteleuropäische Sommerzeit
TZOFFSETFROM:+0100
TZOFFSETTO:+0200
END:DAYLIGHT
END:VTIMEZONE
BEGIN:VEVENT
CATEGORIES:Integration
DESCRIPTION:\n\nVeranstalter: Asylhelferkreis Abensberg\n\nhttps://www.land
 kreis-kelheim.de/landkreis/veranstaltungen/offener-sprachtreff-in-abensber
 g/
DTEND:20250930T190000
DTSTAMP:20260419T212119Z
DTSTART:20250930T173000
LOCATION:"TreffPunkt" am Bahnhof Abensberg: Bahnhofstr. 16\, 93326 Abensber
 g
SEQUENCE:0
SUMMARY:Offener Sprachtreff in Abensberg
UID:41590
URL:https://www.landkreis-kelheim.de/landkreis/veranstaltungen/offener-spra
 chtreff-in-abensberg/
END:VEVENT
END:VCALENDAR
