BEGIN:VCALENDAR
VERSION:2.0
PRODID:-//ddaysoftware.com//NONSGML DDay.iCal 1.0//EN
BEGIN:VTIMEZONE
TZID:W. Europe Standard Time
BEGIN:STANDARD
DTSTART:20251002T030000
RRULE:FREQ=YEARLY;BYDAY=-1SU;BYHOUR=3;BYMINUTE=0;BYMONTH=10
TZNAME:Mitteleuropäische Zeit
TZOFFSETFROM:+0200
TZOFFSETTO:+0100
END:STANDARD
BEGIN:DAYLIGHT
DTSTART:20250301T020000
RRULE:FREQ=YEARLY;BYDAY=-1SU;BYHOUR=2;BYMINUTE=0;BYMONTH=3
TZNAME:Mitteleuropäische Sommerzeit
TZOFFSETFROM:+0100
TZOFFSETTO:+0200
END:DAYLIGHT
END:VTIMEZONE
BEGIN:VEVENT
CATEGORIES:Integration
DESCRIPTION:\n\nVeranstalter: Asylhelferkreis Abensberg\n\nhttps://www.land
 kreis-kelheim.de/landkreis/veranstaltungen/mutter-kind-treff-fuer-frauen-a
 us-allen-kulturen/
DTEND:20251010T110000
DTSTAMP:20260420T004907Z
DTSTART:20251010T093000
LOCATION:"TreffPunkt" am Bahnhof Abensberg: Bahnhofstr. 16\, 93326 Abensber
 g
SEQUENCE:0
SUMMARY:Mutter-Kind-Treff für Frauen aus allen Kulturen
UID:41625
URL:https://www.landkreis-kelheim.de/landkreis/veranstaltungen/mutter-kind-
 treff-fuer-frauen-aus-allen-kulturen/
END:VEVENT
END:VCALENDAR
