BEGIN:VCALENDAR
VERSION:2.0
PRODID:-//ddaysoftware.com//NONSGML DDay.iCal 1.0//EN
BEGIN:VTIMEZONE
TZID:W. Europe Standard Time
BEGIN:STANDARD
DTSTART:20251002T030000
RRULE:FREQ=YEARLY;BYDAY=-1SU;BYHOUR=3;BYMINUTE=0;BYMONTH=10
TZNAME:Mitteleuropäische Zeit
TZOFFSETFROM:+0200
TZOFFSETTO:+0100
END:STANDARD
BEGIN:DAYLIGHT
DTSTART:20250301T020000
RRULE:FREQ=YEARLY;BYDAY=-1SU;BYHOUR=2;BYMINUTE=0;BYMONTH=3
TZNAME:Mitteleuropäische Sommerzeit
TZOFFSETFROM:+0100
TZOFFSETTO:+0200
END:DAYLIGHT
END:VTIMEZONE
BEGIN:VEVENT
CATEGORIES:Integration
DESCRIPTION:Die Musik AG der 3. und 4. Klasse lädt Kinder und Familien zum 
 Musikworkshop ein!\n\nVeranstalter: SFZ/ Eduard-Staudt-Schule Kelheim\n\nh
 ttps://www.landkreis-kelheim.de/landkreis/veranstaltungen/musikworkshop-fu
 er-kinder-lieder-taenze-und-rhythmen-aus-drei-kontinenten/
DTEND:20251006T160000
DTSTAMP:20260419T213609Z
DTSTART:20251006T143000
LOCATION:Turnhalle der Eduard-Staudt-Schule/ SFZ Kelheim: Schulstraße 11\, 
 93309 Kelheim
SEQUENCE:0
SUMMARY:Musikworkshop für Kinder "Lieder\, Tänze und Rhythmen aus drei Kont
 inenten"
UID:41603
URL:https://www.landkreis-kelheim.de/landkreis/veranstaltungen/musikworksho
 p-fuer-kinder-lieder-taenze-und-rhythmen-aus-drei-kontinenten/
END:VEVENT
END:VCALENDAR
