BEGIN:VCALENDAR
VERSION:2.0
PRODID:-//ddaysoftware.com//NONSGML DDay.iCal 1.0//EN
BEGIN:VTIMEZONE
TZID:W. Europe Standard Time
BEGIN:STANDARD
DTSTART:20251002T030000
RRULE:FREQ=YEARLY;BYDAY=-1SU;BYHOUR=3;BYMINUTE=0;BYMONTH=10
TZNAME:Mitteleuropäische Zeit
TZOFFSETFROM:+0200
TZOFFSETTO:+0100
END:STANDARD
BEGIN:DAYLIGHT
DTSTART:20250301T020000
RRULE:FREQ=YEARLY;BYDAY=-1SU;BYHOUR=2;BYMINUTE=0;BYMONTH=3
TZNAME:Mitteleuropäische Sommerzeit
TZOFFSETFROM:+0100
TZOFFSETTO:+0200
END:DAYLIGHT
END:VTIMEZONE
BEGIN:VEVENT
CATEGORIES:Integration
DESCRIPTION:Herzliche Einladung des Latein-Tanz-Team Kelheim e.V. an alle F
 rauen zum offenen Workshop!\n\nVeranstalter: Latein- Tanz- Team Kelheim e.
 V.\n\nhttps://www.landkreis-kelheim.de/landkreis/veranstaltungen/line-danc
 e-workshop-fuer-frauen/
DTEND:20250925T193000
DTSTAMP:20260419T213609Z
DTSTART:20250925T180000
LOCATION:LTT Kelheim (VFL-Gelände): Abensberger Str. 7-9\, 93309 Kelheim
SEQUENCE:0
SUMMARY:Line Dance Workshop für Frauen
UID:41557
URL:https://www.landkreis-kelheim.de/landkreis/veranstaltungen/line-dance-w
 orkshop-fuer-frauen/
END:VEVENT
END:VCALENDAR
