BEGIN:VCALENDAR
VERSION:2.0
PRODID:-//ddaysoftware.com//NONSGML DDay.iCal 1.0//EN
BEGIN:VTIMEZONE
TZID:W. Europe Standard Time
BEGIN:STANDARD
DTSTART:20251002T030000
RRULE:FREQ=YEARLY;BYDAY=-1SU;BYHOUR=3;BYMINUTE=0;BYMONTH=10
TZNAME:Mitteleuropäische Zeit
TZOFFSETFROM:+0200
TZOFFSETTO:+0100
END:STANDARD
BEGIN:DAYLIGHT
DTSTART:20250301T020000
RRULE:FREQ=YEARLY;BYDAY=-1SU;BYHOUR=2;BYMINUTE=0;BYMONTH=3
TZNAME:Mitteleuropäische Sommerzeit
TZOFFSETFROM:+0100
TZOFFSETTO:+0200
END:DAYLIGHT
END:VTIMEZONE
BEGIN:VEVENT
CATEGORIES:Integration
DESCRIPTION:Einlass 19 Uhr | Beginn: 20 Uhr | Ticket erforderlich\, mehr In
 fos im Text\n\nVeranstalter: Kaffee Kreativ e. V.\n\nhttps://www.landkreis
 -kelheim.de/landkreis/veranstaltungen/kaffee-kreativ-couch-konzert-mit-dem
 -klezmer-ensemble-gruenthal/
DTEND:20250927T200000
DTSTAMP:20260420T021324Z
DTSTART:20250927T190000
LOCATION:Kulturkantine: Donaustr. 12\, 93309 Kelheim
SEQUENCE:0
SUMMARY:Kaffee Kreativ Couch Konzert mit dem Klezmer-Ensemble Grünthal
UID:41594
URL:https://www.landkreis-kelheim.de/landkreis/veranstaltungen/kaffee-kreat
 iv-couch-konzert-mit-dem-klezmer-ensemble-gruenthal/
END:VEVENT
END:VCALENDAR
