BEGIN:VCALENDAR
VERSION:2.0
PRODID:-//ddaysoftware.com//NONSGML DDay.iCal 1.0//EN
BEGIN:VTIMEZONE
TZID:W. Europe Standard Time
BEGIN:STANDARD
DTSTART:20251002T030000
RRULE:FREQ=YEARLY;BYDAY=-1SU;BYHOUR=3;BYMINUTE=0;BYMONTH=10
TZNAME:Mitteleuropäische Zeit
TZOFFSETFROM:+0200
TZOFFSETTO:+0100
END:STANDARD
BEGIN:DAYLIGHT
DTSTART:20250301T020000
RRULE:FREQ=YEARLY;BYDAY=-1SU;BYHOUR=2;BYMINUTE=0;BYMONTH=3
TZNAME:Mitteleuropäische Sommerzeit
TZOFFSETFROM:+0100
TZOFFSETTO:+0200
END:DAYLIGHT
END:VTIMEZONE
BEGIN:VEVENT
CATEGORIES:Integration
DESCRIPTION:\n\nVeranstalter: KAB - Katholische Arbeitnehmer Bewegung Kelhe
 im\n\nhttps://www.landkreis-kelheim.de/landkreis/veranstaltungen/kab-famil
 ientag-mit-mehrsprachigen-fuehrungen-durch-die-tropfsteinhoehle/
DTEND:20250928T170000
DTSTAMP:20260420T004215Z
DTSTART:20250928T130000
LOCATION:Tropfsteinhöhle Schulerloch: Am Schulerloch 1a\, 93343 Essing
SEQUENCE:0
SUMMARY:KAB Familientag mit mehrsprachigen Führungen durch die Tropfsteinhö
 hle
UID:41568
URL:https://www.landkreis-kelheim.de/landkreis/veranstaltungen/kab-familien
 tag-mit-mehrsprachigen-fuehrungen-durch-die-tropfsteinhoehle/
END:VEVENT
END:VCALENDAR
