BEGIN:VCALENDAR
VERSION:2.0
PRODID:-//ddaysoftware.com//NONSGML DDay.iCal 1.0//EN
BEGIN:VTIMEZONE
TZID:W. Europe Standard Time
BEGIN:STANDARD
DTSTART:20251002T030000
RRULE:FREQ=YEARLY;BYDAY=-1SU;BYHOUR=3;BYMINUTE=0;BYMONTH=10
TZNAME:Mitteleuropäische Zeit
TZOFFSETFROM:+0200
TZOFFSETTO:+0100
END:STANDARD
BEGIN:DAYLIGHT
DTSTART:20250301T020000
RRULE:FREQ=YEARLY;BYDAY=-1SU;BYHOUR=2;BYMINUTE=0;BYMONTH=3
TZNAME:Mitteleuropäische Sommerzeit
TZOFFSETFROM:+0100
TZOFFSETTO:+0200
END:DAYLIGHT
END:VTIMEZONE
BEGIN:VEVENT
CATEGORIES:Kreisjugendamt
DESCRIPTION:Jugend gestaltet Freizeit ist eine Veranstaltungsreihe des Land
 kreises Kelheim und der Josef-Stanglmeier-Stiftung. \n\nJugendliche und ju
 nge Erwachsene erhalten hier die Möglichkeit\, der Öffentlichkeit zu präse
 ntieren\, was sie in ihrer Freizeit machen. Gezeigt werden in der Freizeit
  entstandene Werke und einstudierte Darbietungen aus allen Bereichen der J
 ugendkultur\, angefangen von Musik über Tanz bis hin zu Schauspiel\, Theat
 er\, Malerei\, Fotografie\, Bastelarbeiten und Medien.\n\nDabei handelt es
  sich nicht um einen Wettbewerb: einfach teilnehmen und die Erfahrung mach
 en\, wie es ist\, im Rampenlicht zu stehen.\n\nVeranstalter: Landkreis Kel
 heim und Josef-Stanglmeier-Stiftung\n\nhttps://www.landkreis-kelheim.de/la
 ndkreis/veranstaltungen/jugend-gestaltet-freizeit-2026-4/
DTEND:20260304T210000
DTSTAMP:20260420T002046Z
DTSTART:20260304T190000
LOCATION:Kurhaus Bad Gögging: Am Brunnenforum 3\, 93333 Neustadt a.d. Donau
SEQUENCE:0
SUMMARY:Jugend gestaltet Freizeit 2026
UID:42506
URL:https://www.landkreis-kelheim.de/landkreis/veranstaltungen/jugend-gesta
 ltet-freizeit-2026-4/
END:VEVENT
END:VCALENDAR
