BEGIN:VCALENDAR
VERSION:2.0
PRODID:-//ddaysoftware.com//NONSGML DDay.iCal 1.0//EN
BEGIN:VTIMEZONE
TZID:W. Europe Standard Time
BEGIN:STANDARD
DTSTART:20251002T030000
RRULE:FREQ=YEARLY;BYDAY=-1SU;BYHOUR=3;BYMINUTE=0;BYMONTH=10
TZNAME:Mitteleuropäische Zeit
TZOFFSETFROM:+0200
TZOFFSETTO:+0100
END:STANDARD
BEGIN:DAYLIGHT
DTSTART:20250301T020000
RRULE:FREQ=YEARLY;BYDAY=-1SU;BYHOUR=2;BYMINUTE=0;BYMONTH=3
TZNAME:Mitteleuropäische Sommerzeit
TZOFFSETFROM:+0100
TZOFFSETTO:+0200
END:DAYLIGHT
END:VTIMEZONE
BEGIN:VEVENT
CATEGORIES:Integration
DESCRIPTION:Herzliche Einladung zum interkulturellen Workshop für alle Inte
 ressierten!\n\nVeranstalter: Gerhard Hain/ ti communication\, Landkreis Ke
 lheim\, Integrationslotsinnen\n\nhttps://www.landkreis-kelheim.de/landkrei
 s/veranstaltungen/interkultureller-workshop-warum-deutsche-so-sind-wie-sie
 -sind-ueber-die-besonderheiten-im-umgang-mit-deutschen/
DTEND:20250926T200000
DTSTAMP:20260420T022758Z
DTSTART:20250926T170000
LOCATION:Bürgertreff Bad Abbach: Am Markt 20\, 93077 Bad Abbach
SEQUENCE:0
SUMMARY:Interkultureller Workshop: "Warum Deutsche so sind wie sie sind! Üb
 er die Besonderheiten im Umgang mit Deutschen"
UID:41558
URL:https://www.landkreis-kelheim.de/landkreis/veranstaltungen/interkulture
 ller-workshop-warum-deutsche-so-sind-wie-sie-sind-ueber-die-besonderheiten
 -im-umgang-mit-deutschen/
END:VEVENT
END:VCALENDAR
