BEGIN:VCALENDAR
VERSION:2.0
PRODID:-//ddaysoftware.com//NONSGML DDay.iCal 1.0//EN
BEGIN:VTIMEZONE
TZID:W. Europe Standard Time
BEGIN:STANDARD
DTSTART:20251002T030000
RRULE:FREQ=YEARLY;BYDAY=-1SU;BYHOUR=3;BYMINUTE=0;BYMONTH=10
TZNAME:Mitteleuropäische Zeit
TZOFFSETFROM:+0200
TZOFFSETTO:+0100
END:STANDARD
BEGIN:DAYLIGHT
DTSTART:20250301T020000
RRULE:FREQ=YEARLY;BYDAY=-1SU;BYHOUR=2;BYMINUTE=0;BYMONTH=3
TZNAME:Mitteleuropäische Sommerzeit
TZOFFSETFROM:+0100
TZOFFSETTO:+0200
END:DAYLIGHT
END:VTIMEZONE
BEGIN:VEVENT
CATEGORIES:Kreisjugendamt
DESCRIPTION:Ein Angebot von KoKi – Frühe Hilfen im Landkreis Kelheim und de
 r Johanniter-Unfall-Hilfe e.V. für werdende Eltern sowie\nEltern mit Kinde
 rn bis zum dritten Geburtstag\, die im Landkreis Kelheim wohnen.\n\nVerans
 talter: KoKi - Netzwerk Frühe Hilfen\n\nhttps://www.landkreis-kelheim.de/l
 andkreis/veranstaltungen/erste-hilfe-massnahme-fuer-saeuglinge-und-kleinki
 nder-29042026/
DTEND:20260429T200000
DTSTAMP:20260419T224120Z
DTSTART:20260429T183000
SEQUENCE:0
SUMMARY:Erste Hilfe Maßnahme für Säuglinge und Kleinkinder
UID:41850
URL:https://www.landkreis-kelheim.de/landkreis/veranstaltungen/erste-hilfe-
 massnahme-fuer-saeuglinge-und-kleinkinder-29042026/
END:VEVENT
BEGIN:VEVENT
CATEGORIES:Kreisjugendamt
DESCRIPTION:Ein gemeinsames Angebot von KoKi - Frühe Hilfen im Landkreis Ke
 lheim und dem Caritas-Krankenhaus St. Lukas Kelheim für werdende und frisc
 hgebackene Eltern mit Baby im Alter von bis zu 6 Monaten\, die im Landkrei
 s Kelheim wohnen.\n\nVeranstalter: KoKi - Netzwerk Frühe Hilfen\n\nhttps:/
 /www.landkreis-kelheim.de/landkreis/veranstaltungen/mein-baby-und-ich-unse
 r-gemeinsamer-start-452026/
DTEND:20260504T194500
DTSTAMP:20260419T224120Z
DTSTART:20260504T183000
SEQUENCE:0
SUMMARY:Mein Baby und ich - Unser gemeinsamer Start
UID:42469
URL:https://www.landkreis-kelheim.de/landkreis/veranstaltungen/mein-baby-un
 d-ich-unser-gemeinsamer-start-452026/
END:VEVENT
BEGIN:VEVENT
CATEGORIES:Kreisjugendamt
DESCRIPTION:Die Kommunale Jugendarbeit des Landkreises\, der Kreisjugendrin
 g und die katholische Jugendstelle Kelheim bieten zusätzlich zur Juleica-A
 usbildung einen Erste-Hilfe-Kurs am Kind an.\n\nVeranstalter: Landkreis Ke
 lheim\, Kommunale Jugendarbeit\, Kreisjugendring Kelheim und katholische J
 ugendstelle Kelheim\n\nhttps://www.landkreis-kelheim.de/landkreis/veransta
 ltungen/erste-hilfe-kurs-am-kind-2/
DTEND:20260509T170000
DTSTAMP:20260419T224120Z
DTSTART:20260509T080000
LOCATION:Landratsamt Kelheim\, Hauptgebäude\, Sitzungssaal: Donaupark 12\, 
 93309 Kelheim
SEQUENCE:0
SUMMARY:Erste-Hilfe-Kurs am Kind
UID:42515
URL:https://www.landkreis-kelheim.de/landkreis/veranstaltungen/erste-hilfe-
 kurs-am-kind-2/
END:VEVENT
BEGIN:VEVENT
CATEGORIES:Kreisjugendamt
DESCRIPTION:Ein Angebot von KoKi - Frühe Hilfen im Landkreis Kelheim für we
 rdende Eltern und Eltern mit Kinder im Alter von 0 bis zum 3. Geburtstag\,
  die im Landkreis Kelheim wohnen.\n\nVeranstalter: KoKi - Netzwerk Frühe H
 ilfen\n\nhttps://www.landkreis-kelheim.de/landkreis/veranstaltungen/saeugl
 ingsernaehrung-fuer-eine-optimale-still-oder-flaeschchenzeit-09052026/
DTEND:20260509T173000
DTSTAMP:20260419T224120Z
DTSTART:20260509T150000
SEQUENCE:0
SUMMARY:Säuglingsernährung – für eine optimale Still- oder Fläschchenzeit
UID:42483
URL:https://www.landkreis-kelheim.de/landkreis/veranstaltungen/saeuglingser
 naehrung-fuer-eine-optimale-still-oder-flaeschchenzeit-09052026/
END:VEVENT
BEGIN:VEVENT
CATEGORIES:Kreisjugendamt
DESCRIPTION:Ein Angebot von KoKi - Frühe Hilfen im Landkreis Kelheim für  E
 ltern mit Kindern im Alter von 2 Jahren bis zum 3. Geburtstag\, die im Lan
 dkreis Kelheim wohnen.\n\nVeranstalter: KoKi - Netzwerk Frühe Hilfen\n\nht
 tps://www.landkreis-kelheim.de/landkreis/veranstaltungen/beduerfnisorienti
 erte-begleitung-waehrend-der-autonomiephase-11052026/
DTEND:20260511T190000
DTSTAMP:20260419T224120Z
DTSTART:20260511T170000
LOCATION:Landratsamt Kelheim\, Hauptgebäude\, Sitzungssaal: Donaupark 12\, 
 93309 Kelheim
SEQUENCE:0
SUMMARY:Bedürfnisorientierte Begleitung während der Autonomiephase
UID:42465
URL:https://www.landkreis-kelheim.de/landkreis/veranstaltungen/beduerfnisor
 ientierte-begleitung-waehrend-der-autonomiephase-11052026/
END:VEVENT
BEGIN:VEVENT
CATEGORIES:Kreisjugendamt
DESCRIPTION:Ein Angebot von KoKi – Frühe Hilfen im Landkreis Kelheim und de
 r Johanniter-Unfall-Hilfe e.V. für werdende Eltern sowie\nEltern mit Kinde
 rn bis zum dritten Geburtstag\, die im Landkreis Kelheim wohnen.\n\nVerans
 talter: KoKi - Netzwerk Frühe Hilfen\n\nhttps://www.landkreis-kelheim.de/l
 andkreis/veranstaltungen/erste-hilfe-massnahme-fuer-saeuglinge-und-kleinki
 nder-24062026/
DTEND:20260624T200000
DTSTAMP:20260419T224120Z
DTSTART:20260624T183000
SEQUENCE:0
SUMMARY:Erste Hilfe Maßnahme für Säuglinge und Kleinkinder
UID:42474
URL:https://www.landkreis-kelheim.de/landkreis/veranstaltungen/erste-hilfe-
 massnahme-fuer-saeuglinge-und-kleinkinder-24062026/
END:VEVENT
BEGIN:VEVENT
CATEGORIES:Kreisjugendamt
DESCRIPTION:Ein Angebot von KoKi - Frühe Hilfen im Landkreis Kelheim für we
 rdende Eltern und Eltern mit Kinder\nim Alter von 0 bis zum 3. Geburtstag\
 , die im Landkreis Kelheim wohnen.\n\nVeranstalter: KoKi - Netzwerk Frühe 
 Hilfen\n\nhttps://www.landkreis-kelheim.de/landkreis/veranstaltungen/kinde
 rschlaf-verstehen-27062026/
DTEND:20260627T120000
DTSTAMP:20260419T224120Z
DTSTART:20260627T090000
LOCATION:Landratsamt Kelheim\, Hauptgebäude\, Sitzungssaal: Donaupark 12\, 
 93309 Kelheim
SEQUENCE:0
SUMMARY:Kinderschlaf verstehen
UID:42479
URL:https://www.landkreis-kelheim.de/landkreis/veranstaltungen/kinderschlaf
 -verstehen-27062026/
END:VEVENT
BEGIN:VEVENT
CATEGORIES:Kreisjugendamt
DESCRIPTION:Ein Angebot von KoKi - Frühe Hilfen im Landkreis Kelheim für  E
 ltern mit Kindern im Alter von 2 Jahren bis zum 3. Geburtstag\, die im Lan
 dkreis Kelheim wohnen.\n\nVeranstalter: KoKi - Netzwerk Frühe Hilfen\n\nht
 tps://www.landkreis-kelheim.de/landkreis/veranstaltungen/beduerfnisorienti
 erte-begleitung-waehrend-der-autonomiephase-30062026/
DTEND:20260630T210000
DTSTAMP:20260419T224120Z
DTSTART:20260630T190000
SEQUENCE:0
SUMMARY:Bedürfnisorientierte Begleitung während der Autonomiephase
UID:42464
URL:https://www.landkreis-kelheim.de/landkreis/veranstaltungen/beduerfnisor
 ientierte-begleitung-waehrend-der-autonomiephase-30062026/
END:VEVENT
BEGIN:VEVENT
CATEGORIES:Kreisjugendamt
DESCRIPTION:Ein gemeinsames Angebot von KoKi - Frühe Hilfen im Landkreis Ke
 lheim und dem Caritas-Krankenhaus St. Lukas Kelheim für werdende und frisc
 hgebackene Eltern mit Baby im Alter von bis zu 6 Monaten\, die im Landkrei
 s Kelheim wohnen.\n\nVeranstalter: KoKi - Netzwerk Frühe Hilfen\n\nhttps:/
 /www.landkreis-kelheim.de/landkreis/veranstaltungen/mein-baby-und-ich-unse
 r-gemeinsamer-start-272026/
DTEND:20260702T194500
DTSTAMP:20260419T224120Z
DTSTART:20260702T183000
SEQUENCE:0
SUMMARY:Mein Baby und ich - Unser gemeinsamer Start
UID:42470
URL:https://www.landkreis-kelheim.de/landkreis/veranstaltungen/mein-baby-un
 d-ich-unser-gemeinsamer-start-272026/
END:VEVENT
BEGIN:VEVENT
CATEGORIES:Kreisjugendamt
DESCRIPTION:Ein Angebot von KoKi - Frühe Hilfen im Landkreis Kelheim für we
 rdende Eltern und Eltern mit Kinder im Alter von 0 bis zum 3. Geburtstag\,
  die im Landkreis Kelheim wohnen.\n\nVeranstalter: KoKi - Netzwerk Frühe H
 ilfen\n\nhttps://www.landkreis-kelheim.de/landkreis/veranstaltungen/saeugl
 ingsernaehrung-fuer-eine-optimale-still-oder-flaeschchenzeit-22072026/
DTEND:20260722T173000
DTSTAMP:20260419T224120Z
DTSTART:20260722T150000
SEQUENCE:0
SUMMARY:Säuglingsernährung – für eine optimale Still- oder Fläschchenzeit
UID:42484
URL:https://www.landkreis-kelheim.de/landkreis/veranstaltungen/saeuglingser
 naehrung-fuer-eine-optimale-still-oder-flaeschchenzeit-22072026/
END:VEVENT
BEGIN:VEVENT
CATEGORIES:Kreisjugendamt
DESCRIPTION:Ein Angebot von KoKi – Frühe Hilfen im Landkreis Kelheim und de
 r Johanniter-Unfall-Hilfe e.V. für werdende Eltern sowie\nEltern mit Kinde
 rn bis zum dritten Geburtstag\, die im Landkreis Kelheim wohnen.\n\nVerans
 talter: KoKi - Netzwerk Frühe Hilfen\n\nhttps://www.landkreis-kelheim.de/l
 andkreis/veranstaltungen/erste-hilfe-massnahme-fuer-saeuglinge-und-kleinki
 nder-30072026/
DTEND:20260730T200000
DTSTAMP:20260419T224120Z
DTSTART:20260730T183000
SEQUENCE:0
SUMMARY:Erste Hilfe Maßnahme für Säuglinge und Kleinkinder
UID:42475
URL:https://www.landkreis-kelheim.de/landkreis/veranstaltungen/erste-hilfe-
 massnahme-fuer-saeuglinge-und-kleinkinder-30072026/
END:VEVENT
BEGIN:VEVENT
CATEGORIES:Kreisjugendamt
DESCRIPTION:Ein gemeinsames Angebot von KoKi - Frühe Hilfen im Landkreis Ke
 lheim und dem Caritas-Krankenhaus St. Lukas Kelheim für werdende und frisc
 hgebackene Eltern mit Baby im Alter von bis zu 6 Monaten\, die im Landkrei
 s Kelheim wohnen.\n\nVeranstalter: KoKi - Netzwerk Frühe Hilfen\n\nhttps:/
 /www.landkreis-kelheim.de/landkreis/veranstaltungen/mein-baby-und-ich-unse
 r-gemeinsamer-start-17092026/
DTEND:20260917T194500
DTSTAMP:20260419T224120Z
DTSTART:20260917T183000
SEQUENCE:0
SUMMARY:Mein Baby und ich - Unser gemeinsamer Start
UID:42471
URL:https://www.landkreis-kelheim.de/landkreis/veranstaltungen/mein-baby-un
 d-ich-unser-gemeinsamer-start-17092026/
END:VEVENT
BEGIN:VEVENT
CATEGORIES:Kreisjugendamt
DESCRIPTION:Ein Angebot von KoKi – Frühe Hilfen im Landkreis Kelheim und de
 r Johanniter-Unfall-Hilfe e.V. für werdende Eltern sowie\nEltern mit Kinde
 rn bis zum dritten Geburtstag\, die im Landkreis Kelheim wohnen.\n\nVerans
 talter: KoKi - Netzwerk Frühe Hilfen\n\nhttps://www.landkreis-kelheim.de/l
 andkreis/veranstaltungen/erste-hilfe-massnahme-fuer-saeuglinge-und-kleinki
 nder-22092026/
DTEND:20260922T200000
DTSTAMP:20260419T224120Z
DTSTART:20260922T183000
SEQUENCE:0
SUMMARY:Erste Hilfe Maßnahme für Säuglinge und Kleinkinder
UID:42477
URL:https://www.landkreis-kelheim.de/landkreis/veranstaltungen/erste-hilfe-
 massnahme-fuer-saeuglinge-und-kleinkinder-22092026/
END:VEVENT
BEGIN:VEVENT
CATEGORIES:Kreisjugendamt
DESCRIPTION:Ein Angebot von KoKi - Frühe Hilfen im Landkreis Kelheim für we
 rdende Eltern und Eltern mit Kinder\nim Alter von 0 bis zum 3. Geburtstag\
 , die im Landkreis Kelheim wohnen.\n\nVeranstalter: KoKi - Netzwerk Frühe 
 Hilfen\n\nhttps://www.landkreis-kelheim.de/landkreis/veranstaltungen/kinde
 rschlaf-verstehen-26092026/
DTEND:20260926T133000
DTSTAMP:20260419T224120Z
DTSTART:20260926T103000
SEQUENCE:0
SUMMARY:Kinderschlaf verstehen
UID:42480
URL:https://www.landkreis-kelheim.de/landkreis/veranstaltungen/kinderschlaf
 -verstehen-26092026/
END:VEVENT
BEGIN:VEVENT
CATEGORIES:Kreisjugendamt
DESCRIPTION:Ein Angebot von KoKi - Frühe Hilfen im Landkreis Kelheim für  E
 ltern mit Kindern im Alter von 2 Jahren bis zum 3. Geburtstag\, die im Lan
 dkreis Kelheim wohnen.\n\nVeranstalter: KoKi - Netzwerk Frühe Hilfen\n\nht
 tps://www.landkreis-kelheim.de/landkreis/veranstaltungen/beduerfnisorienti
 erte-begleitung-waehrend-der-autonomiephase-29092026/
DTEND:20260929T210000
DTSTAMP:20260419T224120Z
DTSTART:20260929T190000
SEQUENCE:0
SUMMARY:Bedürfnisorientierte Begleitung während der Autonomiephase
UID:42463
URL:https://www.landkreis-kelheim.de/landkreis/veranstaltungen/beduerfnisor
 ientierte-begleitung-waehrend-der-autonomiephase-29092026/
END:VEVENT
BEGIN:VEVENT
CATEGORIES:Kreisjugendamt
DESCRIPTION:Ein Angebot von KoKi - Frühe Hilfen im Landkreis Kelheim für we
 rdende Eltern und Eltern mit Kinder im Alter von 0 bis zum 3. Geburtstag\,
  die im Landkreis Kelheim wohnen.\n\nVeranstalter: KoKi - Netzwerk Frühe H
 ilfen\n\nhttps://www.landkreis-kelheim.de/landkreis/veranstaltungen/saeugl
 ingsernaehrung-fuer-eine-optimale-still-oder-flaeschchenzeit-17102026/
DTEND:20261017T173000
DTSTAMP:20260419T224120Z
DTSTART:20261017T150000
SEQUENCE:0
SUMMARY:Säuglingsernährung – für eine optimale Still- oder Fläschchenzeit
UID:42485
URL:https://www.landkreis-kelheim.de/landkreis/veranstaltungen/saeuglingser
 naehrung-fuer-eine-optimale-still-oder-flaeschchenzeit-17102026/
END:VEVENT
BEGIN:VEVENT
CATEGORIES:Kreisjugendamt
DESCRIPTION:Ein Angebot von KoKi - Frühe Hilfen im Landkreis Kelheim für  E
 ltern mit Kindern im Alter von 2 Jahren bis zum 3. Geburtstag\, die im Lan
 dkreis Kelheim wohnen.\n\nVeranstalter: KoKi - Netzwerk Frühe Hilfen\n\nht
 tps://www.landkreis-kelheim.de/landkreis/veranstaltungen/beduerfnisorienti
 erte-begleitung-waehrend-der-autonomiephase-09112026/
DTEND:20261109T210000
DTSTAMP:20260419T224120Z
DTSTART:20261109T190000
SEQUENCE:0
SUMMARY:Bedürfnisorientierte Begleitung während der Autonomiephase
UID:41541
URL:https://www.landkreis-kelheim.de/landkreis/veranstaltungen/beduerfnisor
 ientierte-begleitung-waehrend-der-autonomiephase-09112026/
END:VEVENT
BEGIN:VEVENT
CATEGORIES:Kreisjugendamt
DESCRIPTION:Ein gemeinsames Angebot von KoKi - Frühe Hilfen im Landkreis Ke
 lheim und dem Caritas-Krankenhaus St. Lukas Kelheim für werdende und frisc
 hgebackene Eltern mit Baby im Alter von bis zu 6 Monaten\, die im Landkrei
 s Kelheim wohnen.\n\nVeranstalter: KoKi - Netzwerk Frühe Hilfen\n\nhttps:/
 /www.landkreis-kelheim.de/landkreis/veranstaltungen/mein-baby-und-ich-unse
 r-gemeinsamer-start-16112026/
DTEND:20261116T194500
DTSTAMP:20260419T224120Z
DTSTART:20261116T183000
SEQUENCE:0
SUMMARY:Mein Baby und ich - Unser gemeinsamer Start
UID:42472
URL:https://www.landkreis-kelheim.de/landkreis/veranstaltungen/mein-baby-un
 d-ich-unser-gemeinsamer-start-16112026/
END:VEVENT
BEGIN:VEVENT
CATEGORIES:Kreisjugendamt
DESCRIPTION:Ein Angebot von KoKi – Frühe Hilfen im Landkreis Kelheim und de
 r Johanniter-Unfall-Hilfe e.V. für werdende Eltern sowie\nEltern mit Kinde
 rn bis zum dritten Geburtstag\, die im Landkreis Kelheim wohnen.\n\nVerans
 talter: KoKi - Netzwerk Frühe Hilfen\n\nhttps://www.landkreis-kelheim.de/l
 andkreis/veranstaltungen/erste-hilfe-massnahme-fuer-saeuglinge-und-kleinki
 nder-25112026/
DTEND:20261125T200000
DTSTAMP:20260419T224120Z
DTSTART:20261125T170000
LOCATION:Johanniter-Unfall-Hilfe e.V. - Dienststelle Kelheim: Donaustraße 1
 1\, 93309 Kelheim
SEQUENCE:0
SUMMARY:Erste Hilfe Maßnahme für Säuglinge und Kleinkinder
UID:42478
URL:https://www.landkreis-kelheim.de/landkreis/veranstaltungen/erste-hilfe-
 massnahme-fuer-saeuglinge-und-kleinkinder-25112026/
END:VEVENT
BEGIN:VEVENT
CATEGORIES:Kreisjugendamt
DESCRIPTION:Ein Angebot von KoKi - Frühe Hilfen im Landkreis Kelheim für we
 rdende Eltern und Eltern mit Kinder\nim Alter von 0 bis zum 3. Geburtstag\
 , die im Landkreis Kelheim wohnen.\n\nVeranstalter: KoKi - Netzwerk Frühe 
 Hilfen\n\nhttps://www.landkreis-kelheim.de/landkreis/veranstaltungen/kinde
 rschlaf-verstehen-19122026/
DTEND:20261219T133000
DTSTAMP:20260419T224120Z
DTSTART:20261219T103000
SEQUENCE:0
SUMMARY:Kinderschlaf verstehen
UID:42481
URL:https://www.landkreis-kelheim.de/landkreis/veranstaltungen/kinderschlaf
 -verstehen-19122026/
END:VEVENT
END:VCALENDAR
