BEGIN:VCALENDAR
VERSION:2.0
PRODID:-//ddaysoftware.com//NONSGML DDay.iCal 1.0//EN
BEGIN:VTIMEZONE
TZID:W. Europe Standard Time
BEGIN:STANDARD
DTSTART:20251002T030000
RRULE:FREQ=YEARLY;BYDAY=-1SU;BYHOUR=3;BYMINUTE=0;BYMONTH=10
TZNAME:Mitteleuropäische Zeit
TZOFFSETFROM:+0200
TZOFFSETTO:+0100
END:STANDARD
BEGIN:DAYLIGHT
DTSTART:20250301T020000
RRULE:FREQ=YEARLY;BYDAY=-1SU;BYHOUR=2;BYMINUTE=0;BYMONTH=3
TZNAME:Mitteleuropäische Sommerzeit
TZOFFSETFROM:+0100
TZOFFSETTO:+0200
END:DAYLIGHT
END:VTIMEZONE
BEGIN:VEVENT
CATEGORIES:Wirtschaft & Regionales
DESCRIPTION:Kostenfreie Seminarreihe: Unternehmerschule kommt nach Kelheim\
 n\nVeranstalter: Landratsamt Kelheim\, Kreisentwicklung-Wirtschaftsförderu
 ng\n\nhttps://www.landkreis-kelheim.de/landkreis/veranstaltungen/unternehm
 erschule-28042026/
DTEND:20260428T213000
DTSTAMP:20260424T022951Z
DTSTART:20260428T183000
LOCATION:Landratsamt Kelheim\, Hauptgebäude\, Sitzungssaal: Donaupark 12\, 
 93309 Kelheim
SEQUENCE:0
SUMMARY:Unternehmerschule
UID:42309
URL:https://www.landkreis-kelheim.de/landkreis/veranstaltungen/unternehmers
 chule-28042026/
END:VEVENT
BEGIN:VEVENT
CATEGORIES:Kreisjugendamt
DESCRIPTION:Ein Angebot von KoKi – Frühe Hilfen im Landkreis Kelheim und de
 r Johanniter-Unfall-Hilfe e.V. für werdende Eltern sowie\nEltern mit Kinde
 rn bis zum dritten Geburtstag\, die im Landkreis Kelheim wohnen.\n\nVerans
 talter: KoKi - Netzwerk Frühe Hilfen\n\nhttps://www.landkreis-kelheim.de/l
 andkreis/veranstaltungen/erste-hilfe-massnahme-fuer-saeuglinge-und-kleinki
 nder-29042026/
DTEND:20260429T200000
DTSTAMP:20260424T022951Z
DTSTART:20260429T183000
SEQUENCE:0
SUMMARY:Erste Hilfe Maßnahme für Säuglinge und Kleinkinder
UID:41850
URL:https://www.landkreis-kelheim.de/landkreis/veranstaltungen/erste-hilfe-
 massnahme-fuer-saeuglinge-und-kleinkinder-29042026/
END:VEVENT
BEGIN:VEVENT
CATEGORIES:Kreisjugendamt
DESCRIPTION:Ein gemeinsames Angebot von KoKi - Frühe Hilfen im Landkreis Ke
 lheim und dem Caritas-Krankenhaus St. Lukas Kelheim für werdende und frisc
 hgebackene Eltern mit Baby im Alter von bis zu 6 Monaten\, die im Landkrei
 s Kelheim wohnen.\n\nVeranstalter: KoKi - Netzwerk Frühe Hilfen\n\nhttps:/
 /www.landkreis-kelheim.de/landkreis/veranstaltungen/mein-baby-und-ich-unse
 r-gemeinsamer-start-452026/
DTEND:20260504T194500
DTSTAMP:20260424T022951Z
DTSTART:20260504T183000
SEQUENCE:0
SUMMARY:Mein Baby und ich - Unser gemeinsamer Start
UID:42469
URL:https://www.landkreis-kelheim.de/landkreis/veranstaltungen/mein-baby-un
 d-ich-unser-gemeinsamer-start-452026/
END:VEVENT
BEGIN:VEVENT
CATEGORIES:Wirtschaft & Regionales
DESCRIPTION:Halbstündige Energieberatung im Landratsamt in Kelheim mit vora
 b Anmeldung.\n\nVeranstalter: Energieagentur Regensburg\n\nhttps://www.lan
 dkreis-kelheim.de/landkreis/veranstaltungen/energieberatung-des-landratsam
 tes-durch-die-energieagentur-regensburg-05052026/
DTEND:20260505T160000
DTSTAMP:20260424T022951Z
DTSTART:20260505T090000
LOCATION:Landratsamt Kelheim\, Energieberatung: Donaupark 12\, Raum O3.19 \
 , 93309 Kelheim
SEQUENCE:0
SUMMARY:Energieberatung des Landratsamtes durch die Energieagentur Regensbu
 rg
UID:43040
URL:https://www.landkreis-kelheim.de/landkreis/veranstaltungen/energieberat
 ung-des-landratsamtes-durch-die-energieagentur-regensburg-05052026/
END:VEVENT
BEGIN:VEVENT
CATEGORIES:Wirtschaft & Regionales
DESCRIPTION:Kostenfreie Seminarreihe: Unternehmerschule kommt nach Kelheim\
 n\nVeranstalter: Landratsamt Kelheim\, Kreisentwicklung-Wirtschaftsförderu
 ng\n\nhttps://www.landkreis-kelheim.de/landkreis/veranstaltungen/unternehm
 erschule-06052026/
DTEND:20260506T213000
DTSTAMP:20260424T022951Z
DTSTART:20260506T183000
LOCATION:Landratsamt Kelheim\, Hauptgebäude\, Sitzungssaal: Donaupark 12\, 
 93309 Kelheim
SEQUENCE:0
SUMMARY:Unternehmerschule
UID:42311
URL:https://www.landkreis-kelheim.de/landkreis/veranstaltungen/unternehmers
 chule-06052026/
END:VEVENT
BEGIN:VEVENT
CATEGORIES:Wirtschaft & Regionales
DESCRIPTION:Kostenfreie Informationsveranstaltung der Energieagentur Regens
 burg in Kooperation mit dem Landkreis Kelheim\n\nVeranstalter: Landratsamt
  Kelheim\, Kreisentwicklung-Wirtschaftsförderung\n\nhttps://www.landkreis-
 kelheim.de/landkreis/veranstaltungen/info-tech/
DTEND:20260507T190000
DTSTAMP:20260424T022951Z
DTSTART:20260507T173000
LOCATION:Landratsamt Kelheim\, Hauptgebäude\, Sitzungssaal: Donaupark 12\, 
 93309 Kelheim
SEQUENCE:0
SUMMARY:Mit E-Auto und flexiblem Stromtarif in die Energiewende
UID:42415
URL:https://www.landkreis-kelheim.de/landkreis/veranstaltungen/info-tech/
END:VEVENT
BEGIN:VEVENT
CATEGORIES:Kreisjugendamt
DESCRIPTION:Die Kommunale Jugendarbeit des Landkreises\, der Kreisjugendrin
 g und die katholische Jugendstelle Kelheim bieten zusätzlich zur Juleica-A
 usbildung einen Erste-Hilfe-Kurs am Kind an.\n\nVeranstalter: Landkreis Ke
 lheim\, Kommunale Jugendarbeit\, Kreisjugendring Kelheim und katholische J
 ugendstelle Kelheim\n\nhttps://www.landkreis-kelheim.de/landkreis/veransta
 ltungen/erste-hilfe-kurs-am-kind-2/
DTEND:20260509T170000
DTSTAMP:20260424T022951Z
DTSTART:20260509T080000
LOCATION:Landratsamt Kelheim\, Hauptgebäude\, Sitzungssaal: Donaupark 12\, 
 93309 Kelheim
SEQUENCE:0
SUMMARY:Erste-Hilfe-Kurs am Kind
UID:42515
URL:https://www.landkreis-kelheim.de/landkreis/veranstaltungen/erste-hilfe-
 kurs-am-kind-2/
END:VEVENT
BEGIN:VEVENT
CATEGORIES:Kreisjugendamt
DESCRIPTION:Ein Angebot von KoKi - Frühe Hilfen im Landkreis Kelheim für we
 rdende Eltern und Eltern mit Kinder im Alter von 0 bis zum 3. Geburtstag\,
  die im Landkreis Kelheim wohnen.\n\nVeranstalter: KoKi - Netzwerk Frühe H
 ilfen\n\nhttps://www.landkreis-kelheim.de/landkreis/veranstaltungen/saeugl
 ingsernaehrung-fuer-eine-optimale-still-oder-flaeschchenzeit-09052026/
DTEND:20260509T173000
DTSTAMP:20260424T022951Z
DTSTART:20260509T150000
SEQUENCE:0
SUMMARY:Säuglingsernährung – für eine optimale Still- oder Fläschchenzeit
UID:42483
URL:https://www.landkreis-kelheim.de/landkreis/veranstaltungen/saeuglingser
 naehrung-fuer-eine-optimale-still-oder-flaeschchenzeit-09052026/
END:VEVENT
BEGIN:VEVENT
CATEGORIES:Kreisjugendamt
DESCRIPTION:Ein Angebot von KoKi - Frühe Hilfen im Landkreis Kelheim für  E
 ltern mit Kindern im Alter von 2 Jahren bis zum 3. Geburtstag\, die im Lan
 dkreis Kelheim wohnen.\n\nVeranstalter: KoKi - Netzwerk Frühe Hilfen\n\nht
 tps://www.landkreis-kelheim.de/landkreis/veranstaltungen/beduerfnisorienti
 erte-begleitung-waehrend-der-autonomiephase-11052026/
DTEND:20260511T190000
DTSTAMP:20260424T022951Z
DTSTART:20260511T170000
LOCATION:Landratsamt Kelheim\, Hauptgebäude\, Sitzungssaal: Donaupark 12\, 
 93309 Kelheim
SEQUENCE:0
SUMMARY:Bedürfnisorientierte Begleitung während der Autonomiephase
UID:42465
URL:https://www.landkreis-kelheim.de/landkreis/veranstaltungen/beduerfnisor
 ientierte-begleitung-waehrend-der-autonomiephase-11052026/
END:VEVENT
BEGIN:VEVENT
CATEGORIES:Ehrenamtsstelle
DESCRIPTION:\n\nVeranstalter: Ehrenamtsstelle Landkreis Kelheim\, KEB Kelhe
 im\n\nhttps://www.landkreis-kelheim.de/landkreis/veranstaltungen/vereins-u
 nd-ehrenamtsakademie-mitglieder-engagierte-gewinnen-begeistern-halten/
DTEND:20260512T203000
DTSTAMP:20260424T022951Z
DTSTART:20260512T180000
LOCATION:Landratsamt Kelheim: Donaupark 12\, 93309 Kelheim
SEQUENCE:0
SUMMARY:Vereins- und Ehrenamtsakademie: Mitglieder & Engagierte gewinnen\, 
 begeistern & halten
UID:42764
URL:https://www.landkreis-kelheim.de/landkreis/veranstaltungen/vereins-und-
 ehrenamtsakademie-mitglieder-engagierte-gewinnen-begeistern-halten/
END:VEVENT
BEGIN:VEVENT
CATEGORIES:Wirtschaft & Regionales
DESCRIPTION:Kostenfreie Seminarreihe: Unternehmerschule kommt nach Kelheim\
 n\nVeranstalter: Landratsamt Kelheim\, Kreisentwicklung-Wirtschaftsförderu
 ng\n\nhttps://www.landkreis-kelheim.de/landkreis/veranstaltungen/unternehm
 erschule-12052026/
DTEND:20260512T213000
DTSTAMP:20260424T022951Z
DTSTART:20260512T183000
LOCATION:Landratsamt Kelheim\, Hauptgebäude\, Sitzungssaal: Donaupark 12\, 
 93309 Kelheim
SEQUENCE:0
SUMMARY:Unternehmerschule
UID:42312
URL:https://www.landkreis-kelheim.de/landkreis/veranstaltungen/unternehmers
 chule-12052026/
END:VEVENT
BEGIN:VEVENT
CATEGORIES:Wirtschaft & Regionales
DESCRIPTION:Sprechtage Existenzgründer - Anmeldung vorab nötig!\n\nVeransta
 lter: Landratsamt Kelheim\, Kreisentwicklung-Wirtschaftsförderung\n\nhttps
 ://www.landkreis-kelheim.de/landkreis/veranstaltungen/sprechtage-fuer-exis
 tenzgruender-190526/
DTEND:20260519T160000
DTSTAMP:20260424T022951Z
DTSTART:20260519T090000
LOCATION:Landratsamt Kelheim\, Kreisentwicklung-Wirtschaftsförderung: Donau
 park 13\, 93309 Kelheim
SEQUENCE:0
SUMMARY:Sprechtage für Existenzgründer
UID:42014
URL:https://www.landkreis-kelheim.de/landkreis/veranstaltungen/sprechtage-f
 uer-existenzgruender-190526/
END:VEVENT
BEGIN:VEVENT
CATEGORIES:Wirtschaft & Regionales
DESCRIPTION:Halbstündige Energieberatung im Landratsamt in Kelheim mit vora
 b Anmeldung.\n\nVeranstalter: Energieagentur Regensburg\n\nhttps://www.lan
 dkreis-kelheim.de/landkreis/veranstaltungen/energieberatung-des-landratsam
 tes-durch-die-energieagentur-regensburg-am-09062026/
DTEND:20260609T160000
DTSTAMP:20260424T022951Z
DTSTART:20260609T090000
LOCATION:Landratsamt Kelheim\, Energieberatung: Donaupark 12\, Raum O3.19 \
 , 93309 Kelheim
SEQUENCE:0
SUMMARY:Energieberatung des Landratsamtes durch die Energieagentur Regensbu
 rg
UID:43041
URL:https://www.landkreis-kelheim.de/landkreis/veranstaltungen/energieberat
 ung-des-landratsamtes-durch-die-energieagentur-regensburg-am-09062026/
END:VEVENT
BEGIN:VEVENT
CATEGORIES:Wirtschaft & Regionales
DESCRIPTION:Kostenlose Online-Informationsveranstaltung zum Thema Weiterbil
 dung im Unternehmen.\n\nVeranstalter: Landratsamt Kelheim\, Kreisentwicklu
 ng-Wirtschaftsförderung\n\nhttps://www.landkreis-kelheim.de/landkreis/vera
 nstaltungen/weiterbildungsdialog/
DTEND:20260616T114500
DTSTAMP:20260424T022951Z
DTSTART:20260616T110000
SEQUENCE:0
SUMMARY:Weiterbildungsdialog für Unternehmen
UID:43183
URL:https://www.landkreis-kelheim.de/landkreis/veranstaltungen/weiterbildun
 gsdialog/
END:VEVENT
BEGIN:VEVENT
CATEGORIES:Kreisjugendamt
DESCRIPTION:Ein Angebot von KoKi – Frühe Hilfen im Landkreis Kelheim und de
 r Johanniter-Unfall-Hilfe e.V. für werdende Eltern sowie\nEltern mit Kinde
 rn bis zum dritten Geburtstag\, die im Landkreis Kelheim wohnen.\n\nVerans
 talter: KoKi - Netzwerk Frühe Hilfen\n\nhttps://www.landkreis-kelheim.de/l
 andkreis/veranstaltungen/erste-hilfe-massnahme-fuer-saeuglinge-und-kleinki
 nder-24062026/
DTEND:20260624T200000
DTSTAMP:20260424T022951Z
DTSTART:20260624T183000
SEQUENCE:0
SUMMARY:Erste Hilfe Maßnahme für Säuglinge und Kleinkinder
UID:42474
URL:https://www.landkreis-kelheim.de/landkreis/veranstaltungen/erste-hilfe-
 massnahme-fuer-saeuglinge-und-kleinkinder-24062026/
END:VEVENT
BEGIN:VEVENT
CATEGORIES:Wirtschaft & Regionales
DESCRIPTION:Die OTH und Partner pitchen  zu themen- & technologieoffenen In
 novationsideen \nSIE SNACKEN genießen Ihre Pause & kontaktieren bei Intere
 sse\n\nSchwerpunkte : Materialien & Produktion\n\nVeranstalter: OTH Ostbay
 erische Technische Hochschule Regensburg\n\nhttps://www.landkreis-kelheim.
 de/landkreis/veranstaltungen/pitch-snack-materialien-produktion-open-regio
 nal-campus/
DTEND:20260625T123000
DTSTAMP:20260424T022951Z
DTSTART:20260625T120000
LOCATION:Online
SEQUENCE:0
SUMMARY:PITCH & SNACK - Materialien & Produktion (Webinarreihe für forschun
 gsbegeisterte  & innovationsinteressierte Unternehmen) 
UID:43038
URL:https://www.landkreis-kelheim.de/landkreis/veranstaltungen/pitch-snack-
 materialien-produktion-open-regional-campus/
END:VEVENT
BEGIN:VEVENT
CATEGORIES:Kreisjugendamt
DESCRIPTION:Ein Angebot von KoKi - Frühe Hilfen im Landkreis Kelheim für we
 rdende Eltern und Eltern mit Kinder\nim Alter von 0 bis zum 3. Geburtstag\
 , die im Landkreis Kelheim wohnen.\n\nVeranstalter: KoKi - Netzwerk Frühe 
 Hilfen\n\nhttps://www.landkreis-kelheim.de/landkreis/veranstaltungen/kinde
 rschlaf-verstehen-27062026/
DTEND:20260627T120000
DTSTAMP:20260424T022951Z
DTSTART:20260627T090000
LOCATION:Landratsamt Kelheim\, Hauptgebäude\, Sitzungssaal: Donaupark 12\, 
 93309 Kelheim
SEQUENCE:0
SUMMARY:Kinderschlaf verstehen
UID:42479
URL:https://www.landkreis-kelheim.de/landkreis/veranstaltungen/kinderschlaf
 -verstehen-27062026/
END:VEVENT
BEGIN:VEVENT
CATEGORIES:Kreisjugendamt
DESCRIPTION:Ein Angebot von KoKi - Frühe Hilfen im Landkreis Kelheim für  E
 ltern mit Kindern im Alter von 2 Jahren bis zum 3. Geburtstag\, die im Lan
 dkreis Kelheim wohnen.\n\nVeranstalter: KoKi - Netzwerk Frühe Hilfen\n\nht
 tps://www.landkreis-kelheim.de/landkreis/veranstaltungen/beduerfnisorienti
 erte-begleitung-waehrend-der-autonomiephase-30062026/
DTEND:20260630T210000
DTSTAMP:20260424T022951Z
DTSTART:20260630T190000
SEQUENCE:0
SUMMARY:Bedürfnisorientierte Begleitung während der Autonomiephase
UID:42464
URL:https://www.landkreis-kelheim.de/landkreis/veranstaltungen/beduerfnisor
 ientierte-begleitung-waehrend-der-autonomiephase-30062026/
END:VEVENT
BEGIN:VEVENT
CATEGORIES:Ehrenamtsstelle
DESCRIPTION:\n\nVeranstalter: Ehrenamtsstelle Landkreis Kelheim\, KEB Kelhe
 im\n\nhttps://www.landkreis-kelheim.de/landkreis/veranstaltungen/vereins-u
 nd-ehrenamtsakademie-haftung-im-verein/
DTEND:20260702T203000
DTSTAMP:20260424T022951Z
DTSTART:20260702T180000
LOCATION:Landratsamt Kelheim: Donaupark 12\, 93309 Kelheim
SEQUENCE:0
SUMMARY:Vereins- und Ehrenamtsakademie: Haftung im Verein
UID:42765
URL:https://www.landkreis-kelheim.de/landkreis/veranstaltungen/vereins-und-
 ehrenamtsakademie-haftung-im-verein/
END:VEVENT
BEGIN:VEVENT
CATEGORIES:Kreisjugendamt
DESCRIPTION:Ein gemeinsames Angebot von KoKi - Frühe Hilfen im Landkreis Ke
 lheim und dem Caritas-Krankenhaus St. Lukas Kelheim für werdende und frisc
 hgebackene Eltern mit Baby im Alter von bis zu 6 Monaten\, die im Landkrei
 s Kelheim wohnen.\n\nVeranstalter: KoKi - Netzwerk Frühe Hilfen\n\nhttps:/
 /www.landkreis-kelheim.de/landkreis/veranstaltungen/mein-baby-und-ich-unse
 r-gemeinsamer-start-272026/
DTEND:20260702T194500
DTSTAMP:20260424T022951Z
DTSTART:20260702T183000
SEQUENCE:0
SUMMARY:Mein Baby und ich - Unser gemeinsamer Start
UID:42470
URL:https://www.landkreis-kelheim.de/landkreis/veranstaltungen/mein-baby-un
 d-ich-unser-gemeinsamer-start-272026/
END:VEVENT
BEGIN:VEVENT
CATEGORIES:Wirtschaft & Regionales
DESCRIPTION:Halbstündige Energieberatung im Landratsamt in Kelheim mit vora
 b Anmeldung.\n\nVeranstalter: Energieagentur Regensburg\n\nhttps://www.lan
 dkreis-kelheim.de/landkreis/veranstaltungen/energieberatung-des-landratsam
 tes-durch-die-energieagentur-regensburg-am-14072026/
DTEND:20260714T160000
DTSTAMP:20260424T022951Z
DTSTART:20260714T090000
LOCATION:Landratsamt Kelheim\, Energieberatung: Donaupark 12\, Raum O3.19 \
 , 93309 Kelheim
SEQUENCE:0
SUMMARY:Energieberatung des Landratsamtes durch die Energieagentur Regensbu
 rg
UID:43042
URL:https://www.landkreis-kelheim.de/landkreis/veranstaltungen/energieberat
 ung-des-landratsamtes-durch-die-energieagentur-regensburg-am-14072026/
END:VEVENT
BEGIN:VEVENT
CATEGORIES:Wirtschaft & Regionales
DESCRIPTION:Sprechtage Existenzgründer - Anmeldung vorab nötig!\n\nVeransta
 lter: Landratsamt Kelheim\, Kreisentwicklung-Wirtschaftsförderung\n\nhttps
 ://www.landkreis-kelheim.de/landkreis/veranstaltungen/sprechtage-fuer-exis
 tenzgruender-210726/
DTEND:20260721T160000
DTSTAMP:20260424T022951Z
DTSTART:20260721T090000
LOCATION:Landratsamt Kelheim\, Kreisentwicklung-Wirtschaftsförderung: Donau
 park 13\, 93309 Kelheim
SEQUENCE:0
SUMMARY:Sprechtage für Existenzgründer
UID:42015
URL:https://www.landkreis-kelheim.de/landkreis/veranstaltungen/sprechtage-f
 uer-existenzgruender-210726/
END:VEVENT
BEGIN:VEVENT
CATEGORIES:Kreisjugendamt
DESCRIPTION:Ein Angebot von KoKi - Frühe Hilfen im Landkreis Kelheim für we
 rdende Eltern und Eltern mit Kinder im Alter von 0 bis zum 3. Geburtstag\,
  die im Landkreis Kelheim wohnen.\n\nVeranstalter: KoKi - Netzwerk Frühe H
 ilfen\n\nhttps://www.landkreis-kelheim.de/landkreis/veranstaltungen/saeugl
 ingsernaehrung-fuer-eine-optimale-still-oder-flaeschchenzeit-22072026/
DTEND:20260722T173000
DTSTAMP:20260424T022951Z
DTSTART:20260722T150000
SEQUENCE:0
SUMMARY:Säuglingsernährung – für eine optimale Still- oder Fläschchenzeit
UID:42484
URL:https://www.landkreis-kelheim.de/landkreis/veranstaltungen/saeuglingser
 naehrung-fuer-eine-optimale-still-oder-flaeschchenzeit-22072026/
END:VEVENT
BEGIN:VEVENT
CATEGORIES:Kreisjugendamt
DESCRIPTION:Ein Angebot von KoKi – Frühe Hilfen im Landkreis Kelheim und de
 r Johanniter-Unfall-Hilfe e.V. für werdende Eltern sowie\nEltern mit Kinde
 rn bis zum dritten Geburtstag\, die im Landkreis Kelheim wohnen.\n\nVerans
 talter: KoKi - Netzwerk Frühe Hilfen\n\nhttps://www.landkreis-kelheim.de/l
 andkreis/veranstaltungen/erste-hilfe-massnahme-fuer-saeuglinge-und-kleinki
 nder-30072026/
DTEND:20260730T200000
DTSTAMP:20260424T022951Z
DTSTART:20260730T183000
SEQUENCE:0
SUMMARY:Erste Hilfe Maßnahme für Säuglinge und Kleinkinder
UID:42475
URL:https://www.landkreis-kelheim.de/landkreis/veranstaltungen/erste-hilfe-
 massnahme-fuer-saeuglinge-und-kleinkinder-30072026/
END:VEVENT
BEGIN:VEVENT
CATEGORIES:Wirtschaft & Regionales
DESCRIPTION:Halbstündige Energieberatung im Landratsamt in Kelheim mit vora
 b Anmeldung.\n\nVeranstalter: Energieagentur Regensburg\n\nhttps://www.lan
 dkreis-kelheim.de/landkreis/veranstaltungen/energieberatung-des-landratsam
 tes-durch-die-energieagentur-regensburg-am-18082026/
DTEND:20260818T160000
DTSTAMP:20260424T022951Z
DTSTART:20260818T090000
LOCATION:Landratsamt Kelheim\, Energieberatung: Donaupark 12\, Raum O3.19 \
 , 93309 Kelheim
SEQUENCE:0
SUMMARY:Energieberatung des Landratsamtes durch die Energieagentur Regensbu
 rg
UID:43043
URL:https://www.landkreis-kelheim.de/landkreis/veranstaltungen/energieberat
 ung-des-landratsamtes-durch-die-energieagentur-regensburg-am-18082026/
END:VEVENT
BEGIN:VEVENT
CATEGORIES:Wirtschaft & Regionales
DESCRIPTION:Veranstaltungsreihe zum zu MINT (Mathematik\, Informatik\, Natu
 rwissenschaften und Technik) für Kinder und Jugendliche\n\nhttps://www.lan
 dkreis-kelheim.de/landkreis/veranstaltungen/mint-herbst/
DTEND:20261130T000000
DTSTAMP:20260424T022951Z
DTSTART;VALUE=DATE:20260901
SEQUENCE:0
SUMMARY:MINT-Herbst Landkreis Kelheim
UID:42629
URL:https://www.landkreis-kelheim.de/landkreis/veranstaltungen/mint-herbst/
END:VEVENT
BEGIN:VEVENT
CATEGORIES:Wirtschaft & Regionales
DESCRIPTION:Sprechtage Existenzgründer - Anmeldung vorab nötig!\n\nVeransta
 lter: Landratsamt Kelheim\, Kreisentwicklung-Wirtschaftsförderung\n\nhttps
 ://www.landkreis-kelheim.de/landkreis/veranstaltungen/sprechtage-fuer-exis
 tenzgruender-080926/
DTEND:20260908T160000
DTSTAMP:20260424T022951Z
DTSTART:20260908T090000
LOCATION:Landratsamt Kelheim\, Kreisentwicklung-Wirtschaftsförderung: Donau
 park 13\, 93309 Kelheim
SEQUENCE:0
SUMMARY:Sprechtage für Existenzgründer
UID:42016
URL:https://www.landkreis-kelheim.de/landkreis/veranstaltungen/sprechtage-f
 uer-existenzgruender-080926/
END:VEVENT
BEGIN:VEVENT
CATEGORIES:Wirtschaft & Regionales
DESCRIPTION:Halbstündige Energieberatung im Landratsamt in Kelheim mit vora
 b Anmeldung.\n\nVeranstalter: Energieagentur Regensburg\n\nhttps://www.lan
 dkreis-kelheim.de/landkreis/veranstaltungen/energieberatung-des-landratsam
 tes-durch-die-energieagentur-regensburg-am-08092026/
DTEND:20260908T160000
DTSTAMP:20260424T022951Z
DTSTART:20260908T090000
LOCATION:Landratsamt Kelheim\, Energieberatung: Donaupark 12\, Raum O3.19 \
 , 93309 Kelheim
SEQUENCE:0
SUMMARY:Energieberatung des Landratsamtes durch die Energieagentur Regensbu
 rg
UID:43044
URL:https://www.landkreis-kelheim.de/landkreis/veranstaltungen/energieberat
 ung-des-landratsamtes-durch-die-energieagentur-regensburg-am-08092026/
END:VEVENT
BEGIN:VEVENT
CATEGORIES:Kreisjugendamt
DESCRIPTION:Ein gemeinsames Angebot von KoKi - Frühe Hilfen im Landkreis Ke
 lheim und dem Caritas-Krankenhaus St. Lukas Kelheim für werdende und frisc
 hgebackene Eltern mit Baby im Alter von bis zu 6 Monaten\, die im Landkrei
 s Kelheim wohnen.\n\nVeranstalter: KoKi - Netzwerk Frühe Hilfen\n\nhttps:/
 /www.landkreis-kelheim.de/landkreis/veranstaltungen/mein-baby-und-ich-unse
 r-gemeinsamer-start-17092026/
DTEND:20260917T194500
DTSTAMP:20260424T022951Z
DTSTART:20260917T183000
SEQUENCE:0
SUMMARY:Mein Baby und ich - Unser gemeinsamer Start
UID:42471
URL:https://www.landkreis-kelheim.de/landkreis/veranstaltungen/mein-baby-un
 d-ich-unser-gemeinsamer-start-17092026/
END:VEVENT
BEGIN:VEVENT
CATEGORIES:Kreisjugendamt
DESCRIPTION:Ein Angebot von KoKi – Frühe Hilfen im Landkreis Kelheim und de
 r Johanniter-Unfall-Hilfe e.V. für werdende Eltern sowie\nEltern mit Kinde
 rn bis zum dritten Geburtstag\, die im Landkreis Kelheim wohnen.\n\nVerans
 talter: KoKi - Netzwerk Frühe Hilfen\n\nhttps://www.landkreis-kelheim.de/l
 andkreis/veranstaltungen/erste-hilfe-massnahme-fuer-saeuglinge-und-kleinki
 nder-22092026/
DTEND:20260922T200000
DTSTAMP:20260424T022951Z
DTSTART:20260922T183000
SEQUENCE:0
SUMMARY:Erste Hilfe Maßnahme für Säuglinge und Kleinkinder
UID:42477
URL:https://www.landkreis-kelheim.de/landkreis/veranstaltungen/erste-hilfe-
 massnahme-fuer-saeuglinge-und-kleinkinder-22092026/
END:VEVENT
BEGIN:VEVENT
CATEGORIES:Kreisjugendamt
DESCRIPTION:Ein Angebot von KoKi - Frühe Hilfen im Landkreis Kelheim für we
 rdende Eltern und Eltern mit Kinder\nim Alter von 0 bis zum 3. Geburtstag\
 , die im Landkreis Kelheim wohnen.\n\nVeranstalter: KoKi - Netzwerk Frühe 
 Hilfen\n\nhttps://www.landkreis-kelheim.de/landkreis/veranstaltungen/kinde
 rschlaf-verstehen-26092026/
DTEND:20260926T133000
DTSTAMP:20260424T022951Z
DTSTART:20260926T103000
SEQUENCE:0
SUMMARY:Kinderschlaf verstehen
UID:42480
URL:https://www.landkreis-kelheim.de/landkreis/veranstaltungen/kinderschlaf
 -verstehen-26092026/
END:VEVENT
BEGIN:VEVENT
CATEGORIES:Kreisjugendamt
DESCRIPTION:Ein Angebot von KoKi - Frühe Hilfen im Landkreis Kelheim für  E
 ltern mit Kindern im Alter von 2 Jahren bis zum 3. Geburtstag\, die im Lan
 dkreis Kelheim wohnen.\n\nVeranstalter: KoKi - Netzwerk Frühe Hilfen\n\nht
 tps://www.landkreis-kelheim.de/landkreis/veranstaltungen/beduerfnisorienti
 erte-begleitung-waehrend-der-autonomiephase-29092026/
DTEND:20260929T210000
DTSTAMP:20260424T022951Z
DTSTART:20260929T190000
SEQUENCE:0
SUMMARY:Bedürfnisorientierte Begleitung während der Autonomiephase
UID:42463
URL:https://www.landkreis-kelheim.de/landkreis/veranstaltungen/beduerfnisor
 ientierte-begleitung-waehrend-der-autonomiephase-29092026/
END:VEVENT
BEGIN:VEVENT
CATEGORIES:Wirtschaft & Regionales
DESCRIPTION:Halbstündige Energieberatung im Landratsamt in Kelheim mit vora
 b Anmeldung.\n\nVeranstalter: Energieagentur Regensburg\n\nhttps://www.lan
 dkreis-kelheim.de/landkreis/veranstaltungen/energieberatung-des-landratsam
 tes-durch-die-energieagentur-regensburg-am-13102026/
DTEND:20261013T160000
DTSTAMP:20260424T022951Z
DTSTART:20261013T090000
LOCATION:Landratsamt Kelheim\, Energieberatung: Donaupark 12\, Raum O3.19 \
 , 93309 Kelheim
SEQUENCE:0
SUMMARY:Energieberatung des Landratsamtes durch die Energieagentur Regensbu
 rg
UID:43045
URL:https://www.landkreis-kelheim.de/landkreis/veranstaltungen/energieberat
 ung-des-landratsamtes-durch-die-energieagentur-regensburg-am-13102026/
END:VEVENT
BEGIN:VEVENT
CATEGORIES:Kreisjugendamt
DESCRIPTION:Ein Angebot von KoKi - Frühe Hilfen im Landkreis Kelheim für we
 rdende Eltern und Eltern mit Kinder im Alter von 0 bis zum 3. Geburtstag\,
  die im Landkreis Kelheim wohnen.\n\nVeranstalter: KoKi - Netzwerk Frühe H
 ilfen\n\nhttps://www.landkreis-kelheim.de/landkreis/veranstaltungen/saeugl
 ingsernaehrung-fuer-eine-optimale-still-oder-flaeschchenzeit-17102026/
DTEND:20261017T173000
DTSTAMP:20260424T022951Z
DTSTART:20261017T150000
SEQUENCE:0
SUMMARY:Säuglingsernährung – für eine optimale Still- oder Fläschchenzeit
UID:42485
URL:https://www.landkreis-kelheim.de/landkreis/veranstaltungen/saeuglingser
 naehrung-fuer-eine-optimale-still-oder-flaeschchenzeit-17102026/
END:VEVENT
BEGIN:VEVENT
CATEGORIES:Kreisjugendamt
DESCRIPTION:Ein Angebot von KoKi - Frühe Hilfen im Landkreis Kelheim für  E
 ltern mit Kindern im Alter von 2 Jahren bis zum 3. Geburtstag\, die im Lan
 dkreis Kelheim wohnen.\n\nVeranstalter: KoKi - Netzwerk Frühe Hilfen\n\nht
 tps://www.landkreis-kelheim.de/landkreis/veranstaltungen/beduerfnisorienti
 erte-begleitung-waehrend-der-autonomiephase-09112026/
DTEND:20261109T210000
DTSTAMP:20260424T022951Z
DTSTART:20261109T190000
SEQUENCE:0
SUMMARY:Bedürfnisorientierte Begleitung während der Autonomiephase
UID:41541
URL:https://www.landkreis-kelheim.de/landkreis/veranstaltungen/beduerfnisor
 ientierte-begleitung-waehrend-der-autonomiephase-09112026/
END:VEVENT
BEGIN:VEVENT
CATEGORIES:Wirtschaft & Regionales
DESCRIPTION:Sprechtage Existenzgründer - Anmeldung vorab nötig!\n\nVeransta
 lter: Landratsamt Kelheim\, Kreisentwicklung-Wirtschaftsförderung\n\nhttps
 ://www.landkreis-kelheim.de/landkreis/veranstaltungen/sprechtage-fuer-exis
 tenzgruender-am-10112026/
DTEND:20261110T100000
DTSTAMP:20260424T022951Z
DTSTART:20261110T090000
LOCATION:Landratsamt Kelheim\, Kreisentwicklung-Wirtschaftsförderung: Donau
 park 13\, 93309 Kelheim
SEQUENCE:0
SUMMARY:Sprechtage für Existenzgründer
UID:42017
URL:https://www.landkreis-kelheim.de/landkreis/veranstaltungen/sprechtage-f
 uer-existenzgruender-am-10112026/
END:VEVENT
BEGIN:VEVENT
CATEGORIES:Wirtschaft & Regionales
DESCRIPTION:Halbstündige Energieberatung im Landratsamt in Kelheim mit vora
 b Anmeldung.\n\nVeranstalter: Energieagentur Regensburg\n\nhttps://www.lan
 dkreis-kelheim.de/landkreis/veranstaltungen/energieberatung-des-landratsam
 tes-durch-die-energieagentur-regensburg-am-10112026/
DTEND:20261110T160000
DTSTAMP:20260424T022951Z
DTSTART:20261110T090000
LOCATION:Landratsamt Kelheim\, Energieberatung: Donaupark 12\, Raum O3.19 \
 , 93309 Kelheim
SEQUENCE:0
SUMMARY:Energieberatung des Landratsamtes durch die Energieagentur Regensbu
 rg
UID:43046
URL:https://www.landkreis-kelheim.de/landkreis/veranstaltungen/energieberat
 ung-des-landratsamtes-durch-die-energieagentur-regensburg-am-10112026/
END:VEVENT
BEGIN:VEVENT
CATEGORIES:Kreisjugendamt
DESCRIPTION:Ein gemeinsames Angebot von KoKi - Frühe Hilfen im Landkreis Ke
 lheim und dem Caritas-Krankenhaus St. Lukas Kelheim für werdende und frisc
 hgebackene Eltern mit Baby im Alter von bis zu 6 Monaten\, die im Landkrei
 s Kelheim wohnen.\n\nVeranstalter: KoKi - Netzwerk Frühe Hilfen\n\nhttps:/
 /www.landkreis-kelheim.de/landkreis/veranstaltungen/mein-baby-und-ich-unse
 r-gemeinsamer-start-16112026/
DTEND:20261116T194500
DTSTAMP:20260424T022951Z
DTSTART:20261116T183000
SEQUENCE:0
SUMMARY:Mein Baby und ich - Unser gemeinsamer Start
UID:42472
URL:https://www.landkreis-kelheim.de/landkreis/veranstaltungen/mein-baby-un
 d-ich-unser-gemeinsamer-start-16112026/
END:VEVENT
BEGIN:VEVENT
CATEGORIES:Kreisjugendamt
DESCRIPTION:Ein Angebot von KoKi – Frühe Hilfen im Landkreis Kelheim und de
 r Johanniter-Unfall-Hilfe e.V. für werdende Eltern sowie\nEltern mit Kinde
 rn bis zum dritten Geburtstag\, die im Landkreis Kelheim wohnen.\n\nVerans
 talter: KoKi - Netzwerk Frühe Hilfen\n\nhttps://www.landkreis-kelheim.de/l
 andkreis/veranstaltungen/erste-hilfe-massnahme-fuer-saeuglinge-und-kleinki
 nder-25112026/
DTEND:20261125T200000
DTSTAMP:20260424T022951Z
DTSTART:20261125T170000
LOCATION:Johanniter-Unfall-Hilfe e.V. - Dienststelle Kelheim: Donaustraße 1
 1\, 93309 Kelheim
SEQUENCE:0
SUMMARY:Erste Hilfe Maßnahme für Säuglinge und Kleinkinder
UID:42478
URL:https://www.landkreis-kelheim.de/landkreis/veranstaltungen/erste-hilfe-
 massnahme-fuer-saeuglinge-und-kleinkinder-25112026/
END:VEVENT
BEGIN:VEVENT
CATEGORIES:Wirtschaft & Regionales
DESCRIPTION:Halbstündige Energieberatung im Landratsamt in Kelheim mit vora
 b Anmeldung.\n\nVeranstalter: Energieagentur Regensburg\n\nhttps://www.lan
 dkreis-kelheim.de/landkreis/veranstaltungen/energieberatung-des-landratsam
 tes-durch-die-energieagentur-regensburg-am-08122026/
DTEND:20261208T160000
DTSTAMP:20260424T022951Z
DTSTART:20261208T090000
LOCATION:Landratsamt Kelheim\, Energieberatung: Donaupark 12\, Raum O3.19 \
 , 93309 Kelheim
SEQUENCE:0
SUMMARY:Energieberatung des Landratsamtes durch die Energieagentur Regensbu
 rg
UID:43047
URL:https://www.landkreis-kelheim.de/landkreis/veranstaltungen/energieberat
 ung-des-landratsamtes-durch-die-energieagentur-regensburg-am-08122026/
END:VEVENT
BEGIN:VEVENT
CATEGORIES:Kreisjugendamt
DESCRIPTION:Ein Angebot von KoKi - Frühe Hilfen im Landkreis Kelheim für we
 rdende Eltern und Eltern mit Kinder\nim Alter von 0 bis zum 3. Geburtstag\
 , die im Landkreis Kelheim wohnen.\n\nVeranstalter: KoKi - Netzwerk Frühe 
 Hilfen\n\nhttps://www.landkreis-kelheim.de/landkreis/veranstaltungen/kinde
 rschlaf-verstehen-19122026/
DTEND:20261219T133000
DTSTAMP:20260424T022951Z
DTSTART:20261219T103000
SEQUENCE:0
SUMMARY:Kinderschlaf verstehen
UID:42481
URL:https://www.landkreis-kelheim.de/landkreis/veranstaltungen/kinderschlaf
 -verstehen-19122026/
END:VEVENT
END:VCALENDAR
