BEGIN:VCALENDAR
VERSION:2.0
PRODID:-//ddaysoftware.com//NONSGML DDay.iCal 1.0//EN
BEGIN:VTIMEZONE
TZID:W. Europe Standard Time
BEGIN:STANDARD
DTSTART:20251002T030000
RRULE:FREQ=YEARLY;BYDAY=-1SU;BYHOUR=3;BYMINUTE=0;BYMONTH=10
TZNAME:Mitteleuropäische Zeit
TZOFFSETFROM:+0200
TZOFFSETTO:+0100
END:STANDARD
BEGIN:DAYLIGHT
DTSTART:20250301T020000
RRULE:FREQ=YEARLY;BYDAY=-1SU;BYHOUR=2;BYMINUTE=0;BYMONTH=3
TZNAME:Mitteleuropäische Sommerzeit
TZOFFSETFROM:+0100
TZOFFSETTO:+0200
END:DAYLIGHT
END:VTIMEZONE
BEGIN:VEVENT
CATEGORIES:Integration
DESCRIPTION:\n\nVeranstalter: Bündnis für Menschenwürde Kelheim e.V.\, Wahl
 fach Vielfalt der Realschule Riedenburg\, Landkreis Kelheim\, Integrations
 lotsinnen\n\nhttps://www.landkreis-kelheim.de/landkreis/veranstaltungen/gr
 osser-spiele-und-tanzabend-beim-kulturcafe/
DTEND:20251002T200000
DTSTAMP:20260420T021324Z
DTSTART:20251002T170000
LOCATION:Kulturkantine: Donaustr. 12\, 93309 Kelheim
SEQUENCE:0
SUMMARY:großer Spiele- und Tanzabend beim Kulturcafé
UID:41595
URL:https://www.landkreis-kelheim.de/landkreis/veranstaltungen/grosser-spie
 le-und-tanzabend-beim-kulturcafe/
END:VEVENT
END:VCALENDAR
