BEGIN:VCALENDAR
VERSION:2.0
PRODID:-//ddaysoftware.com//NONSGML DDay.iCal 1.0//EN
BEGIN:VTIMEZONE
TZID:W. Europe Standard Time
BEGIN:STANDARD
DTSTART:20251002T030000
RRULE:FREQ=YEARLY;BYDAY=-1SU;BYHOUR=3;BYMINUTE=0;BYMONTH=10
TZNAME:Mitteleuropäische Zeit
TZOFFSETFROM:+0200
TZOFFSETTO:+0100
END:STANDARD
BEGIN:DAYLIGHT
DTSTART:20250301T020000
RRULE:FREQ=YEARLY;BYDAY=-1SU;BYHOUR=2;BYMINUTE=0;BYMONTH=3
TZNAME:Mitteleuropäische Sommerzeit
TZOFFSETFROM:+0100
TZOFFSETTO:+0200
END:DAYLIGHT
END:VTIMEZONE
BEGIN:VEVENT
CATEGORIES:Integration
DESCRIPTION:Zum Gottesdienst mit dem Thema "Miteinander auf dem Weg" sind M
 enschen aller Religionen herzlich eingeladen!\n\nVeranstalter: SFZ/ Eduard
 -Staudt-Schule Kelheim\n\nhttps://www.landkreis-kelheim.de/landkreis/veran
 staltungen/gottesdienst-am-schulanfang-zum-thema-miteinander-auf-dem-weg/
DTEND:20250922T091500
DTSTAMP:20260420T003902Z
DTSTART:20250922T083000
LOCATION:Kirche Thaldorf: Gottsackerweg\, 93309 Kelheim
SEQUENCE:0
SUMMARY:TERMINÄNDERUNG: Gottesdienst am Schulanfang zum Thema "Miteinander 
 auf dem Weg"
UID:41519
URL:https://www.landkreis-kelheim.de/landkreis/veranstaltungen/gottesdienst
 -am-schulanfang-zum-thema-miteinander-auf-dem-weg/
END:VEVENT
END:VCALENDAR
