BEGIN:VCALENDAR
VERSION:2.0
PRODID:-//ddaysoftware.com//NONSGML DDay.iCal 1.0//EN
BEGIN:VTIMEZONE
TZID:W. Europe Standard Time
BEGIN:STANDARD
DTSTART:20251002T030000
RRULE:FREQ=YEARLY;BYDAY=-1SU;BYHOUR=3;BYMINUTE=0;BYMONTH=10
TZNAME:Mitteleuropäische Zeit
TZOFFSETFROM:+0200
TZOFFSETTO:+0100
END:STANDARD
BEGIN:DAYLIGHT
DTSTART:20250301T020000
RRULE:FREQ=YEARLY;BYDAY=-1SU;BYHOUR=2;BYMINUTE=0;BYMONTH=3
TZNAME:Mitteleuropäische Sommerzeit
TZOFFSETFROM:+0100
TZOFFSETTO:+0200
END:DAYLIGHT
END:VTIMEZONE
BEGIN:VEVENT
CATEGORIES:GesundheitsregionPlus
DESCRIPTION:Hitzewallungen\, Schlafstörungen\, Stimmungsschwankungen – die 
 Wechseljahre bringen oft große Veränderungen mit sich. Dr. Edgar Gonzalez 
 Heiberger\, Facharzt für Frauenheilkunde\, erläutert in seinem Vortrag typ
 ische Beschwerden\, deren Ursachen sowie Behandlungsmöglichkeiten. Darüber
  hinaus wird die Hormonersatztherapie als Methode zur Linderung von Wechse
 ljahresbeschwerden vorgestellt - mit Blick auf Nutzen\, Risiken und Altern
 ativen. \nDie Teilnahme ist kostenfrei und ohne Anmeldung möglich!\n\nVera
 nstalter: GesundheitsregionPlus Landkreis Kelheim\n\nhttps://www.landkreis
 -kelheim.de/landkreis/veranstaltungen/frauengesundheit-on-tour-im-landkrei
 s-kelheim-vortrag-wechseljahresbeschwerden-und-hormonersatztherapie/
DTEND:20250910T193000
DTSTAMP:20260420T004358Z
DTSTART:20250910T180000
LOCATION:Pfarrheim Langquaid: Hintere Marktstraße 3\, 84085 Langquaid
SEQUENCE:0
SUMMARY:Frauengesundheit on Tour im Landkreis Kelheim: Vortrag "Wechseljahr
 esbeschwerden  und Hormonersatztherapie"
UID:41614
URL:https://www.landkreis-kelheim.de/landkreis/veranstaltungen/frauengesund
 heit-on-tour-im-landkreis-kelheim-vortrag-wechseljahresbeschwerden-und-hor
 monersatztherapie/
END:VEVENT
END:VCALENDAR
