BEGIN:VCALENDAR
VERSION:2.0
PRODID:-//ddaysoftware.com//NONSGML DDay.iCal 1.0//EN
BEGIN:VTIMEZONE
TZID:W. Europe Standard Time
BEGIN:STANDARD
DTSTART:20251002T030000
RRULE:FREQ=YEARLY;BYDAY=-1SU;BYHOUR=3;BYMINUTE=0;BYMONTH=10
TZNAME:Mitteleuropäische Zeit
TZOFFSETFROM:+0200
TZOFFSETTO:+0100
END:STANDARD
BEGIN:DAYLIGHT
DTSTART:20250301T020000
RRULE:FREQ=YEARLY;BYDAY=-1SU;BYHOUR=2;BYMINUTE=0;BYMONTH=3
TZNAME:Mitteleuropäische Sommerzeit
TZOFFSETFROM:+0100
TZOFFSETTO:+0200
END:DAYLIGHT
END:VTIMEZONE
BEGIN:VEVENT
CATEGORIES:Integration
DESCRIPTION:\n\nVeranstalter: Bündnis Bunte Hallertau e.V.\n\nhttps://www.l
 andkreis-kelheim.de/landkreis/veranstaltungen/filmauffuehrung-des-spielfil
 ms-almanya-willkommen-in-deutschland/
DTEND:20250926T210000
DTSTAMP:20260419T212321Z
DTSTART:20250926T200000
LOCATION:Stadthalle Mainburg: Griesplatz 1\, 84048 Mainburg
SEQUENCE:0
SUMMARY:Filmaufführung des Spielfilms "Almanya - Willkommen in Deutschland"
UID:41566
URL:https://www.landkreis-kelheim.de/landkreis/veranstaltungen/filmauffuehr
 ung-des-spielfilms-almanya-willkommen-in-deutschland/
END:VEVENT
END:VCALENDAR
