BEGIN:VCALENDAR
VERSION:2.0
PRODID:-//ddaysoftware.com//NONSGML DDay.iCal 1.0//EN
BEGIN:VTIMEZONE
TZID:W. Europe Standard Time
BEGIN:STANDARD
DTSTART:20251002T030000
RRULE:FREQ=YEARLY;BYDAY=-1SU;BYHOUR=3;BYMINUTE=0;BYMONTH=10
TZNAME:Mitteleuropäische Zeit
TZOFFSETFROM:+0200
TZOFFSETTO:+0100
END:STANDARD
BEGIN:DAYLIGHT
DTSTART:20250301T020000
RRULE:FREQ=YEARLY;BYDAY=-1SU;BYHOUR=2;BYMINUTE=0;BYMONTH=3
TZNAME:Mitteleuropäische Sommerzeit
TZOFFSETFROM:+0100
TZOFFSETTO:+0200
END:DAYLIGHT
END:VTIMEZONE
BEGIN:VEVENT
CATEGORIES:Integration
DESCRIPTION:\n\nVeranstalter: FC Kelheim\n\nhttps://www.landkreis-kelheim.d
 e/landkreis/veranstaltungen/fc-kelheim-heimspiel-mit-interkulturellem-rahm
 enprogramm/
DTEND:20251011T163000
DTSTAMP:20260419T211719Z
DTSTART:20251011T133000
LOCATION:Fußballstadion am Rennweg\, Kelheim: Am Rennweg\, 93309 Kelheim
SEQUENCE:0
SUMMARY:FC Kelheim - Heimspiel mit interkulturellem Rahmenprogramm
UID:41631
URL:https://www.landkreis-kelheim.de/landkreis/veranstaltungen/fc-kelheim-h
 eimspiel-mit-interkulturellem-rahmenprogramm/
END:VEVENT
END:VCALENDAR
