BEGIN:VCALENDAR
VERSION:2.0
PRODID:-//ddaysoftware.com//NONSGML DDay.iCal 1.0//EN
BEGIN:VTIMEZONE
TZID:W. Europe Standard Time
BEGIN:STANDARD
DTSTART:20251002T030000
RRULE:FREQ=YEARLY;BYDAY=-1SU;BYHOUR=3;BYMINUTE=0;BYMONTH=10
TZNAME:Mitteleuropäische Zeit
TZOFFSETFROM:+0200
TZOFFSETTO:+0100
END:STANDARD
BEGIN:DAYLIGHT
DTSTART:20250301T020000
RRULE:FREQ=YEARLY;BYDAY=-1SU;BYHOUR=2;BYMINUTE=0;BYMONTH=3
TZNAME:Mitteleuropäische Sommerzeit
TZOFFSETFROM:+0100
TZOFFSETTO:+0200
END:DAYLIGHT
END:VTIMEZONE
BEGIN:VEVENT
CATEGORIES:Integration
DESCRIPTION:\n\nVeranstalter: Landkreis Kelheim\, Integrationslotsinnen\n\n
 https://www.landkreis-kelheim.de/landkreis/veranstaltungen/fachvortrag-des
 -migrationsforschers-dr-schmidbauer-zum-thema-engagement-staerkt-demokrati
 e-wie-teilhabe-in-der-migrationsgesellschaft-gelingen-kann/
DTEND:20251007T193000
DTSTAMP:20260420T005222Z
DTSTART:20251007T180000
LOCATION:Staaliches Berufliches Schulzentrum Kelheim: Schützenstraße 30\, 9
 3309  Kelheim
SEQUENCE:0
SUMMARY:Fachvortrag des Migrationsforschers Dr. Schmidbauer zum Thema "Enga
 gement stärkt Demokratie - wie Teilhabe in der Migrationsgesellschaft geli
 ngen kann"
UID:41623
URL:https://www.landkreis-kelheim.de/landkreis/veranstaltungen/fachvortrag-
 des-migrationsforschers-dr-schmidbauer-zum-thema-engagement-staerkt-demokr
 atie-wie-teilhabe-in-der-migrationsgesellschaft-gelingen-kann/
END:VEVENT
END:VCALENDAR
