BEGIN:VCALENDAR
VERSION:2.0
PRODID:-//ddaysoftware.com//NONSGML DDay.iCal 1.0//EN
BEGIN:VTIMEZONE
TZID:W. Europe Standard Time
BEGIN:STANDARD
DTSTART:20251002T030000
RRULE:FREQ=YEARLY;BYDAY=-1SU;BYHOUR=3;BYMINUTE=0;BYMONTH=10
TZNAME:Mitteleuropäische Zeit
TZOFFSETFROM:+0200
TZOFFSETTO:+0100
END:STANDARD
BEGIN:DAYLIGHT
DTSTART:20250301T020000
RRULE:FREQ=YEARLY;BYDAY=-1SU;BYHOUR=2;BYMINUTE=0;BYMONTH=3
TZNAME:Mitteleuropäische Sommerzeit
TZOFFSETFROM:+0100
TZOFFSETTO:+0200
END:DAYLIGHT
END:VTIMEZONE
BEGIN:VEVENT
CATEGORIES:Integration
DESCRIPTION:\n\nVeranstalter: René Krüger\, Jugendmigrationsdienst Kelheim\
 n\nhttps://www.landkreis-kelheim.de/landkreis/veranstaltungen/eroeffnungsv
 eranstaltung-der-youniworth-ausstellung-des-jugendmigrationsdienstes/
DTEND:20250930T190000
DTSTAMP:20260420T023059Z
DTSTART:20250930T180000
LOCATION:Staaliches Berufliches Schulzentrum Kelheim: Schützenstraße 30\, 9
 3309  Kelheim
SEQUENCE:0
SUMMARY:Eröffnungsveranstaltung der Youniworth-Ausstellung des Jugendmigrat
 ionsdienstes
UID:41586
URL:https://www.landkreis-kelheim.de/landkreis/veranstaltungen/eroeffnungsv
 eranstaltung-der-youniworth-ausstellung-des-jugendmigrationsdienstes/
END:VEVENT
END:VCALENDAR
