BEGIN:VCALENDAR
VERSION:2.0
PRODID:-//ddaysoftware.com//NONSGML DDay.iCal 1.0//EN
BEGIN:VTIMEZONE
TZID:W. Europe Standard Time
BEGIN:STANDARD
DTSTART:20251002T030000
RRULE:FREQ=YEARLY;BYDAY=-1SU;BYHOUR=3;BYMINUTE=0;BYMONTH=10
TZNAME:Mitteleuropäische Zeit
TZOFFSETFROM:+0200
TZOFFSETTO:+0100
END:STANDARD
BEGIN:DAYLIGHT
DTSTART:20250301T020000
RRULE:FREQ=YEARLY;BYDAY=-1SU;BYHOUR=2;BYMINUTE=0;BYMONTH=3
TZNAME:Mitteleuropäische Sommerzeit
TZOFFSETFROM:+0100
TZOFFSETTO:+0200
END:DAYLIGHT
END:VTIMEZONE
BEGIN:VEVENT
CATEGORIES:Wirtschaft & Regionales
DESCRIPTION:Vorstellung des digitalen Beratungstags mit Praxisbeispielen\n\
 nVeranstalter: Regionales Zukunftszentrum Süd für Bayern und Baden-Württem
 berg\n\nhttps://www.landkreis-kelheim.de/landkreis/veranstaltungen/einfueh
 rungsveranstaltung-zum-digitalen-beratungstag/
DTEND:20251023T134500
DTSTAMP:20260420T004340Z
DTSTART:20251023T130000
SEQUENCE:0
SUMMARY:Einführungsveranstaltung zum digitalen Beratungstag
UID:41839
URL:https://www.landkreis-kelheim.de/landkreis/veranstaltungen/einfuehrungs
 veranstaltung-zum-digitalen-beratungstag/
END:VEVENT
END:VCALENDAR
