BEGIN:VCALENDAR
VERSION:2.0
PRODID:-//ddaysoftware.com//NONSGML DDay.iCal 1.0//EN
BEGIN:VTIMEZONE
TZID:W. Europe Standard Time
BEGIN:STANDARD
DTSTART:20251002T030000
RRULE:FREQ=YEARLY;BYDAY=-1SU;BYHOUR=3;BYMINUTE=0;BYMONTH=10
TZNAME:Mitteleuropäische Zeit
TZOFFSETFROM:+0200
TZOFFSETTO:+0100
END:STANDARD
BEGIN:DAYLIGHT
DTSTART:20250301T020000
RRULE:FREQ=YEARLY;BYDAY=-1SU;BYHOUR=2;BYMINUTE=0;BYMONTH=3
TZNAME:Mitteleuropäische Sommerzeit
TZOFFSETFROM:+0100
TZOFFSETTO:+0200
END:DAYLIGHT
END:VTIMEZONE
BEGIN:VEVENT
CATEGORIES:Wirtschaft & Regionales
DESCRIPTION:Buchen Sie Ihre kostenlose & individuelle Beratung\n\nVeranstal
 ter: Regionales Zukunftszentrum Süd für Bayern und Baden-Württemberg\n\nht
 tps://www.landkreis-kelheim.de/landkreis/veranstaltungen/digitaler-beratun
 gstag-fuer-unternehmen-1/
DTEND:20251120T160000
DTSTAMP:20260420T021102Z
DTSTART:20251120T130000
SEQUENCE:0
SUMMARY:Digitaler Beratungstag für Unternehmen (ausgebucht)
UID:42045
URL:https://www.landkreis-kelheim.de/landkreis/veranstaltungen/digitaler-be
 ratungstag-fuer-unternehmen-1/
END:VEVENT
END:VCALENDAR
