BEGIN:VCALENDAR
VERSION:2.0
PRODID:-//ddaysoftware.com//NONSGML DDay.iCal 1.0//EN
BEGIN:VTIMEZONE
TZID:W. Europe Standard Time
BEGIN:STANDARD
DTSTART:20251002T030000
RRULE:FREQ=YEARLY;BYDAY=-1SU;BYHOUR=3;BYMINUTE=0;BYMONTH=10
TZNAME:Mitteleuropäische Zeit
TZOFFSETFROM:+0200
TZOFFSETTO:+0100
END:STANDARD
BEGIN:DAYLIGHT
DTSTART:20250301T020000
RRULE:FREQ=YEARLY;BYDAY=-1SU;BYHOUR=2;BYMINUTE=0;BYMONTH=3
TZNAME:Mitteleuropäische Sommerzeit
TZOFFSETFROM:+0100
TZOFFSETTO:+0200
END:DAYLIGHT
END:VTIMEZONE
BEGIN:VEVENT
CATEGORIES:Integration
DESCRIPTION:\n\nVeranstalter: Wortgeheuer/ Eva Honold\n\nhttps://www.landkr
 eis-kelheim.de/landkreis/veranstaltungen/besuch-des-kreativ-und-integratio
 nsprojekt-buchstabensuppe-im-vogelpark-abensberg/
DTEND:20250927T110000
DTSTAMP:20260419T213104Z
DTSTART:20250927T100000
LOCATION:Vogelpark Abensberg: Welschenbach 4\, 93326  Abensberg
SEQUENCE:0
SUMMARY:Besuch des Kinder-Kreativprojekts "Buchstabensuppe" im Vogelpark Ab
 ensberg
UID:41567
URL:https://www.landkreis-kelheim.de/landkreis/veranstaltungen/besuch-des-k
 reativ-und-integrationsprojekt-buchstabensuppe-im-vogelpark-abensberg/
END:VEVENT
END:VCALENDAR
