BEGIN:VCALENDAR
VERSION:2.0
PRODID:-//ddaysoftware.com//NONSGML DDay.iCal 1.0//EN
BEGIN:VTIMEZONE
TZID:W. Europe Standard Time
BEGIN:STANDARD
DTSTART:20251002T030000
RRULE:FREQ=YEARLY;BYDAY=-1SU;BYHOUR=3;BYMINUTE=0;BYMONTH=10
TZNAME:Mitteleuropäische Zeit
TZOFFSETFROM:+0200
TZOFFSETTO:+0100
END:STANDARD
BEGIN:DAYLIGHT
DTSTART:20250301T020000
RRULE:FREQ=YEARLY;BYDAY=-1SU;BYHOUR=2;BYMINUTE=0;BYMONTH=3
TZNAME:Mitteleuropäische Sommerzeit
TZOFFSETFROM:+0100
TZOFFSETTO:+0200
END:DAYLIGHT
END:VTIMEZONE
BEGIN:VEVENT
CATEGORIES:Kreisjugendamt
DESCRIPTION:Bei der Abschlussveranstaltung von Jugend gestaltet Freizeit we
 rden nochmals die Höhepunkte aller vorangegangenen Veranstaltungen gezeigt
 .\n\nVeranstalter: Landkreis Kelheim und Josef-Stanglmeier-Stiftung\n\nhtt
 ps://www.landkreis-kelheim.de/landkreis/veranstaltungen/abschlussveranstal
 tung-von-jugend-gestaltet-freizeit-2026/
DTEND:20260315T180000
DTSTAMP:20260419T213234Z
DTSTART:20260315T160000
LOCATION:Kursaal Bad Abbach: Kaiser-Karl-V.-Allee 3\, 93077  Bad Abbach
SEQUENCE:0
SUMMARY:Abschlussveranstaltung von Jugend gestaltet Freizeit 2026
UID:42513
URL:https://www.landkreis-kelheim.de/landkreis/veranstaltungen/abschlussver
 anstaltung-von-jugend-gestaltet-freizeit-2026/
END:VEVENT
END:VCALENDAR
