BEGIN:VCALENDAR
VERSION:2.0
PRODID:-//ddaysoftware.com//NONSGML DDay.iCal 1.0//EN
BEGIN:VTIMEZONE
TZID:W. Europe Standard Time
BEGIN:STANDARD
DTSTART:20251002T030000
RRULE:FREQ=YEARLY;BYDAY=-1SU;BYHOUR=3;BYMINUTE=0;BYMONTH=10
TZNAME:Mitteleuropäische Zeit
TZOFFSETFROM:+0200
TZOFFSETTO:+0100
END:STANDARD
BEGIN:DAYLIGHT
DTSTART:20250301T020000
RRULE:FREQ=YEARLY;BYDAY=-1SU;BYHOUR=2;BYMINUTE=0;BYMONTH=3
TZNAME:Mitteleuropäische Sommerzeit
TZOFFSETFROM:+0100
TZOFFSETTO:+0200
END:DAYLIGHT
END:VTIMEZONE
BEGIN:VEVENT
CATEGORIES:Integration
DESCRIPTION:\n\nVeranstalter: Ria Bavaria\n\nhttps://www.landkreis-kelheim.
 de/landkreis/veranstaltungen/3-indonesischer-kulturabend-mit-tanz-und-esse
 n/
DTEND:20251012T200000
DTSTAMP:20260420T002303Z
DTSTART:20251012T150000
LOCATION:Kulturkantine: Donaustr. 12\, 93309 Kelheim
SEQUENCE:0
SUMMARY:3. Indonesischer Kulturabend mit Tanz und Essen
UID:41583
URL:https://www.landkreis-kelheim.de/landkreis/veranstaltungen/3-indonesisc
 her-kulturabend-mit-tanz-und-essen/
END:VEVENT
END:VCALENDAR
